BEGIN:VCALENDAR
VERSION:2.0
PRODID:gruene-sprockhoevel.de
METHOD:PUBLISH
BEGIN:VTIMEZONE
TZID:Europe/Berlin
X-LIC-LOCATION:Europe/Berlin
BEGIN:DAYLIGHT
TZOFFSETFROM:+0100
TZOFFSETTO:+0200
TZNAME:CEST
DTSTART:19700329T020000
RRULE:FREQ=YEARLY;INTERVAL=1;BYDAY=-1SU;BYMONTH=3
END:DAYLIGHT
BEGIN:STANDARD
TZOFFSETFROM:+0200
TZOFFSETTO:+0100
TZNAME:CET
DTSTART:19701025T030000
RRULE:FREQ=YEARLY;INTERVAL=1;BYDAY=-1SU;BYMONTH=10
END:STANDARD
END:VTIMEZONE
BEGIN:VEVENT
UID:fba0e5deba812333b8bbd119e286f05d@gruene-sprockhoevel.de
URL;VALUE=URI:https://gruene-sprockhoevel.de/termine/1-ortsmitgliedervers
 ammlung-2025/
LOCATION:Grünen Büro, Am Eicken 10c, Sprockhövel
SUMMARY:1. Ortsmitgliederversammlung 2025
DESCRIPTION;ALTREP="data:text/html,%0A%3Cp%3EAn%20diesem%20Freitag%20tref
 fen%20wir%20uns%20zur%201.%20Ortsmitgliederversammlung%20f%C3%BCr%20das%2
 0Jahr%202025.%20Hier%20sprechen%20wir%20%C3%BCber%20aktuelle%20Themen%2C%
 20freie%20Positionen%20sowie%20die%20Haushaltsplanung.%20Alle%20Mitgliede
 r%20sind%20herzlich%20Willkommen%21%20%3C%2Fp%3E%0A":An diesem Freitag tr
 effen wir uns zur 1. Ortsmitgliederversammlung für das Jahr 2025. Hier s
 prechen wir über aktuelle Themen\, freie Positionen sowie die Haushaltsp
 lanung. Alle Mitglieder sind herzlich Willkommen!
CLASS:PUBLIC
DTSTART;TZID=Europe/Berlin:20250207T190000
DTEND;TZID=Europe/Berlin:20250207T210000
DTSTAMP:20260419T202839
END:VEVENT
END:VCALENDAR