BEGIN:VCALENDAR
VERSION:2.0
PRODID:gruene-sprockhoevel.de
METHOD:PUBLISH
BEGIN:VTIMEZONE
TZID:Europe/Berlin
X-LIC-LOCATION:Europe/Berlin
BEGIN:DAYLIGHT
TZOFFSETFROM:+0100
TZOFFSETTO:+0200
TZNAME:CEST
DTSTART:19700329T020000
RRULE:FREQ=YEARLY;INTERVAL=1;BYDAY=-1SU;BYMONTH=3
END:DAYLIGHT
BEGIN:STANDARD
TZOFFSETFROM:+0200
TZOFFSETTO:+0100
TZNAME:CET
DTSTART:19701025T030000
RRULE:FREQ=YEARLY;INTERVAL=1;BYDAY=-1SU;BYMONTH=10
END:STANDARD
END:VTIMEZONE
BEGIN:VEVENT
UID:ac669f276a2adb48b8ba3f1c1c5c098d@gruene-sprockhoevel.de
URL;VALUE=URI:https://gruene-sprockhoevel.de/termine/2-ortsmitgliedervers
 ammlung-2025/
LOCATION:Grünen Büro, Am Eicken 10c, Sprockhövel
SUMMARY:3. Ortsmitgliederversammlung 2025
DESCRIPTION;ALTREP="data:text/html,%0A%3Cp%3EAn%20diesem%20Samstag%20tref
 fen%20wir%20uns%20zur%203.%20Ortsmitgliederversammlung%20f%C3%BCr%20das%2
 0Jahr%202025.%20Hier%20sprechen%20wir%20%C3%BCber%20die%20Kandidatur%20f%
 C3%BCr%20die%20Kommunalwahl%202025.%20Alle%20Mitglieder%20sind%20herzlich
 %20Willkommen%21%3C%2Fp%3E%0A":An diesem Samstag treffen wir uns zur 3. O
 rtsmitgliederversammlung für das Jahr 2025. Hier sprechen wir über die 
 Kandidatur für die Kommunalwahl 2025. Alle Mitglieder sind herzlich Will
 kommen!
CLASS:PUBLIC
DTSTART;TZID=Europe/Berlin:20250329T100000
DTEND;TZID=Europe/Berlin:20250329T130000
DTSTAMP:20260420T020336
END:VEVENT
END:VCALENDAR