BEGIN:VCALENDAR
VERSION:2.0
PRODID:gruene-sprockhoevel.de
METHOD:PUBLISH
BEGIN:VTIMEZONE
TZID:Europe/Berlin
X-LIC-LOCATION:Europe/Berlin
BEGIN:DAYLIGHT
TZOFFSETFROM:+0100
TZOFFSETTO:+0200
TZNAME:CEST
DTSTART:19700329T020000
RRULE:FREQ=YEARLY;INTERVAL=1;BYDAY=-1SU;BYMONTH=3
END:DAYLIGHT
BEGIN:STANDARD
TZOFFSETFROM:+0200
TZOFFSETTO:+0100
TZNAME:CET
DTSTART:19701025T030000
RRULE:FREQ=YEARLY;INTERVAL=1;BYDAY=-1SU;BYMONTH=10
END:STANDARD
END:VTIMEZONE
BEGIN:VEVENT
UID:9d66dce924d69b19896e85046c325b25@gruene-sprockhoevel.de
URL;VALUE=URI:https://gruene-sprockhoevel.de/termine/adventsfruehstueck/
LOCATION:Grünes Büro, Am Eicken 10c, Sprockhövel
SUMMARY:Politisches Frauenfrühstück im Advent des Kreisverbandes-Ennepe
 -Ruhr
DESCRIPTION;ALTREP="data:text/html,%0A%3Cp%3ELiebe%20Frauen%2C%3C%2Fp%3E%
 0A%0A%0A%0A%3Cp%3Eam%202.%20Dezember%202023%20um%2010%3A00%20Uhr%20l%C3%A
 4dt%20der%20Kreisverband-Ennepe-Ruhr%20zu%20einem%20adventlichen%20Fr%C3%
 BChst%C3%BCck%20ein%2C%20bei%20dem%20man%20sich%20%C3%BCber%20aktuelle%20
 politische%20Themen%20austauschen%20kann.%20Bei%20leckeren%20Br%C3%B6tche
 n%2C%20jeder%20Menge%20Leckereien%20und%20ein%20paar%20w%C3%A4rmenden%20G
 etr%C3%A4nken%20wollen%20wir%20Gr%C3%BCnen%20Frauen%20aus%20dem%20Ennepe-
 Ruhr-Kreis%20ins%20Gespr%C3%A4ch%20kommen.%20Was%20sind%20eure%20Anliegen
 %3F%20Was%20muss%20sich%20dringend%20%C3%A4ndern%3F%20-%20das%20und%20vie
 les%20mehr%20kann%20dort%20Thema%20sein.%20%3C%2Fp%3E%0A":Liebe Frauen\,\
 n\nam 2. Dezember 2023 um 10:00 Uhr lädt der Kreisverband-Ennepe-Ruhr zu
  einem adventlichen Frühstück ein\, bei dem man sich über aktuelle pol
 itische Themen austauschen kann. Bei leckeren Brötchen\, jeder Menge Lec
 kereien und ein paar wärmenden Getränken wollen wir Grünen Frauen aus 
 dem Ennepe-Ruhr-Kreis ins Gespräch kommen. Was sind eure Anliegen? Was m
 uss sich dringend ändern? - das und vieles mehr kann dort Thema sein.
CLASS:PUBLIC
DTSTART;TZID=Europe/Berlin:20231202T100000
DTEND;TZID=Europe/Berlin:20231202T140000
DTSTAMP:20260420T052921
END:VEVENT
END:VCALENDAR