BEGIN:VCALENDAR
VERSION:2.0
PRODID:gruene-sprockhoevel.de
METHOD:PUBLISH
BEGIN:VTIMEZONE
TZID:Europe/Berlin
X-LIC-LOCATION:Europe/Berlin
BEGIN:DAYLIGHT
TZOFFSETFROM:+0100
TZOFFSETTO:+0200
TZNAME:CEST
DTSTART:19700329T020000
RRULE:FREQ=YEARLY;INTERVAL=1;BYDAY=-1SU;BYMONTH=3
END:DAYLIGHT
BEGIN:STANDARD
TZOFFSETFROM:+0200
TZOFFSETTO:+0100
TZNAME:CET
DTSTART:19701025T030000
RRULE:FREQ=YEARLY;INTERVAL=1;BYDAY=-1SU;BYMONTH=10
END:STANDARD
END:VTIMEZONE
BEGIN:VEVENT
UID:e35466bd3b6b2fb52bbfd14743186b14@gruene-sprockhoevel.de
URL;VALUE=URI:https://gruene-sprockhoevel.de/termine/arbeitskreis-radverk
 ehrsfoerderung/
LOCATION:Sitzungssaal im Rathaus, Rathausplatz 4, Sprockhövel
SUMMARY:Arbeitskreis Radverkehrsförderung
DESCRIPTION;ALTREP="data:text/html,%0A%3Cp%3EDas%20folgende%20ist%20die%2
 0Tagesordnung%3A%3C%2Fp%3E%0A%0A%0A%0A%3Cp%3E1.%20Begr%C3%BC%C3%9Fung%3C%
 2Fp%3E%0A%0A%0A%0A%3Cp%3E2.%20%3Ca%20href%3D%22https%3A%2F%2Fsessionnet.k
 rz.de%2Fen-kreis%2Fbi%2Fgetfile.asp%3Fid%3D19148%26amp%3Btype%3Ddo%22%20d
 ata-type%3D%22URL%22%20data-id%3D%22https%3A%2F%2Fsessionnet.krz.de%2Fen-
 kreis%2Fbi%2Fgetfile.asp%3Fid%3D19148%26amp%3Btype%3Ddo%22%3EMobilit%C3%A
 4tskonzept%20des%20EN-Kreise%3C%2Fa%3E%20%28hier%3A%20Aspekte%20f%C3%BCr%
 20den%20Radverkehr%20in%20Sprockh%C3%B6vel%29%3C%2Fp%3E%0A%0A%0A%0A%3Cp%3
 E3.%20%3Ca%20href%3D%22https%3A%2F%2Fcloud.sprockhoevel.de%2Fs%2FLpsXZ2cH
 g8wNKfK%22%20data-type%3D%22URL%22%20data-id%3D%22https%3A%2F%2Fcloud.spr
 ockhoevel.de%2Fs%2FLpsXZ2cHg8wNKfK%22%3EIntegriertes%20Handlungskonzept%2
 0barrierefreie%20Umgestaltung%20der%20Gehwege%20an%20der%20Mittelstra%C3%
 9Fe%20%3C%2Fa%3E%3C%2Fp%3E%0A%0A%0A%0A%3Cp%3E4.%20Bannerstandorte%202023%
 20%3C%2Fp%3E%0A%0A%0A%0A%3Cp%3E5.%20Information%20zum%20Beschluss%20%22As
 phaltierung%20Gl%C3%BCck-Auf-Trasse%22%20im%20Verkehrausschuss%3C%2Fp%3E%
 0A%0A%0A%0A%3Cp%3E6.%20ADFC%20Fahrradklima-Test%202022%3C%2Fp%3E%0A%0A%0A
 %0A%3Cp%3E7.%20Verschiedenes%3C%2Fp%3E%0A":Das folgende ist die Tagesordn
 ung:\n\n1. Begrüßung\n\n2. Mobilitätskonzept des EN-Kreise (hier: Aspe
 kte für den Radverkehr in Sprockhövel)\n\n3. Integriertes Handlungskonz
 ept barrierefreie Umgestaltung der Gehwege an der Mittelstraße\n\n4. Ban
 nerstandorte 2023\n\n5. Information zum Beschluss "Asphaltierung Glück-A
 uf-Trasse" im Verkehrausschuss\n\n6. ADFC Fahrradklima-Test 2022\n\n7. Ve
 rschiedenes
CLASS:PUBLIC
DTSTART;TZID=Europe/Berlin:20230412T190000
DTEND;TZID=Europe/Berlin:20230412T210000
DTSTAMP:20260420T052938
END:VEVENT
END:VCALENDAR