BEGIN:VCALENDAR
VERSION:2.0
PRODID:gruene-sprockhoevel.de
METHOD:PUBLISH
BEGIN:VTIMEZONE
TZID:Europe/Berlin
X-LIC-LOCATION:Europe/Berlin
BEGIN:DAYLIGHT
TZOFFSETFROM:+0100
TZOFFSETTO:+0200
TZNAME:CEST
DTSTART:19700329T020000
RRULE:FREQ=YEARLY;INTERVAL=1;BYDAY=-1SU;BYMONTH=3
END:DAYLIGHT
BEGIN:STANDARD
TZOFFSETFROM:+0200
TZOFFSETTO:+0100
TZNAME:CET
DTSTART:19701025T030000
RRULE:FREQ=YEARLY;INTERVAL=1;BYDAY=-1SU;BYMONTH=10
END:STANDARD
END:VTIMEZONE
BEGIN:VEVENT
UID:2828557d0b063596582b9db704bd73f9@gruene-sprockhoevel.de
URL;VALUE=URI:https://gruene-sprockhoevel.de/termine/ausschuss-fuer-jugen
 dhilfe-und-schule/
LOCATION:Forum der Gemeinschaftsgrundschule Börgersbruch, Dresdener Stra
 ße 43, 45549 Sprockhövel
SUMMARY:Ausschuss für Jugendhilfe und Schule
DESCRIPTION;ALTREP="data:text/html,%0A%3Cp%3EAlle%20Informationen%20zu%20
 der%20Sitzung%20finden%20sich%20hier%2C%20Tagesordnung%20wird%2014%20Tage
 %20vorher%20bekannt%20gegeben%3C%2Fp%3E%0A%0A%0A%0A%3Cp%3E%3Ca%20href%3D%
 22https%3A%2F%2Fsprockhoevel.ratsinfomanagement.net%2Ftops%2F%3F__%3DUGhV
 M0hpd2NXNFdFcExjZVolT39XZYSM95VsLQfR7W4%22%3Ehttps%3A%2F%2Fsprockhoevel.r
 atsinfomanagement.net%2Ftops%2F%3F__%3DUGhVM0hpd2NXNFdFcExjZVolT39XZYSM95
 VsLQfR7W4%3C%2Fa%3E%3C%2Fp%3E%0A":Alle Informationen zu der Sitzung finde
 n sich hier\, Tagesordnung wird 14 Tage vorher bekannt gegeben\n\nhttps:/
 /sprockhoevel.ratsinfomanagement.net/tops/?__=UGhVM0hpd2NXNFdFcExjZVolT39
 XZYSM95VsLQfR7W4
CLASS:PUBLIC
DTSTART;TZID=Europe/Berlin:20231115T173000
DTEND;TZID=Europe/Berlin:20231115T193000
DTSTAMP:20260419T203028
END:VEVENT
END:VCALENDAR