BEGIN:VCALENDAR
VERSION:2.0
PRODID:gruene-sprockhoevel.de
METHOD:PUBLISH
BEGIN:VTIMEZONE
TZID:Europe/Berlin
X-LIC-LOCATION:Europe/Berlin
BEGIN:DAYLIGHT
TZOFFSETFROM:+0100
TZOFFSETTO:+0200
TZNAME:CEST
DTSTART:19700329T020000
RRULE:FREQ=YEARLY;INTERVAL=1;BYDAY=-1SU;BYMONTH=3
END:DAYLIGHT
BEGIN:STANDARD
TZOFFSETFROM:+0200
TZOFFSETTO:+0100
TZNAME:CET
DTSTART:19701025T030000
RRULE:FREQ=YEARLY;INTERVAL=1;BYDAY=-1SU;BYMONTH=10
END:STANDARD
END:VTIMEZONE
BEGIN:VEVENT
UID:f26a9ba1d69f85d8acbf4e1fc1eeac16@gruene-sprockhoevel.de
URL;VALUE=URI:https://gruene-sprockhoevel.de/termine/ausschuss-fuer-senio
 ren-und-demografie/
LOCATION:Forum GGS Börgersbruch, Dresdener Straße 43, Sprockhövel
SUMMARY:Sitzung des Ausschusses für Senioren und Demografie
DESCRIPTION;ALTREP="data:text/html,%0A%3Cp%3EAlle%20Informationen%20zu%20
 der%20Sitzung%20finden%20sich%20hier%3A%20%20%3Ca%20href%3D%22https%3A%2F
 %2Fsprockhoevel.ratsinfomanagement.net%2Ftops%2F%3F__%3DUGhVM0hpd2NXNFdFc
 ExjZWRiaVBHha8BgVlKbh8F7jU%22%3ESitzungstermin%20-%202024%20-%20Ausschuss
 %20f%C3%BCr%20Senioren%20und%20Demografie%2C%2014.%20Sitzung%20%7C%20Stad
 t%20Sprockh%C3%B6vel%20%7C%20Ratsinformationssystem%20%28ratsinfomanageme
 nt.net%29%3C%2Fa%3E%3C%2Fp%3E%0A":Alle Informationen zu der Sitzung finde
 n sich hier:  Sitzungstermin - 2024 - Ausschuss für Senioren und Demogra
 fie\, 14. Sitzung | Stadt Sprockhövel | Ratsinformationssystem (ratsinfo
 management.net)
CLASS:PUBLIC
DTSTART;TZID=Europe/Berlin:20240902T173000
DTEND;TZID=Europe/Berlin:20240902T193000
DTSTAMP:20260420T032405
END:VEVENT
END:VCALENDAR