BEGIN:VCALENDAR
VERSION:2.0
PRODID:gruene-sprockhoevel.de
METHOD:PUBLISH
BEGIN:VTIMEZONE
TZID:Europe/Berlin
X-LIC-LOCATION:Europe/Berlin
BEGIN:DAYLIGHT
TZOFFSETFROM:+0100
TZOFFSETTO:+0200
TZNAME:CEST
DTSTART:19700329T020000
RRULE:FREQ=YEARLY;INTERVAL=1;BYDAY=-1SU;BYMONTH=3
END:DAYLIGHT
BEGIN:STANDARD
TZOFFSETFROM:+0200
TZOFFSETTO:+0100
TZNAME:CET
DTSTART:19701025T030000
RRULE:FREQ=YEARLY;INTERVAL=1;BYDAY=-1SU;BYMONTH=10
END:STANDARD
END:VTIMEZONE
BEGIN:VEVENT
UID:1c0998ea972f5c86bb374848fe48c1ad@gruene-sprockhoevel.de
URL;VALUE=URI:https://gruene-sprockhoevel.de/termine/ausschuss-fuer-sozia
 les-gesundheitsfoerderung-integration-und-teilhabe/
LOCATION:Sitzungssaal im Rathaus, Rathausplatz 4, Sprockövel
SUMMARY:Ausschuss für Soziales, Gesundheitsförderung, Integration und T
 eilhabe
DESCRIPTION;ALTREP="data:text/html,%0A%3Cp%3EAlle%20Infos%20zu%20diesem%2
 0wichtigen%20Ausschuss%20finden%20sich%20zwei%20Wochen%20vor%20der%20Sitz
 ung%20hier%3A%20https%3A%2F%2Fsprockhoevel.ratsinfomanagement.net%2Ftops%
 2F%3F__%3DUGhVM0hpd2NXNFdFcExjZdX9vYrcKNC5qPaI6uRlIcA%3C%2Fp%3E%0A":Alle 
 Infos zu diesem wichtigen Ausschuss finden sich zwei Wochen vor der Sitzu
 ng hier: https://sprockhoevel.ratsinfomanagement.net/tops/?__=UGhVM0hpd2N
 XNFdFcExjZdX9vYrcKNC5qPaI6uRlIcA
CLASS:PUBLIC
DTSTART;TZID=Europe/Berlin:20230824T173000
DTEND;TZID=Europe/Berlin:20230824T190000
DTSTAMP:20260419T203107
END:VEVENT
END:VCALENDAR