BEGIN:VCALENDAR
VERSION:2.0
PRODID:gruene-sprockhoevel.de
METHOD:PUBLISH
BEGIN:VTIMEZONE
TZID:Europe/Berlin
X-LIC-LOCATION:Europe/Berlin
BEGIN:DAYLIGHT
TZOFFSETFROM:+0100
TZOFFSETTO:+0200
TZNAME:CEST
DTSTART:19700329T020000
RRULE:FREQ=YEARLY;INTERVAL=1;BYDAY=-1SU;BYMONTH=3
END:DAYLIGHT
BEGIN:STANDARD
TZOFFSETFROM:+0200
TZOFFSETTO:+0100
TZNAME:CET
DTSTART:19701025T030000
RRULE:FREQ=YEARLY;INTERVAL=1;BYDAY=-1SU;BYMONTH=10
END:STANDARD
END:VTIMEZONE
BEGIN:VEVENT
UID:8b9c24c7ddfcc8550f91ef060dd70a14@gruene-sprockhoevel.de
URL;VALUE=URI:https://gruene-sprockhoevel.de/termine/buergerbeteiligung-z
 ukunft-der-mobilitaet/
LOCATION:Glück Auf-Halle, Dresdener Straße 11
SUMMARY:Bürgerbeteiligung Zukunft der Mobilität in Sprockhövel
DESCRIPTION;ALTREP="data:text/html,%0A%3Cp%3EAlle%20Details%20finden%20si
 ch%20hier%3A%20https%3A%2F%2Fwww.sprockhoevel.de%2Faktuelles%2Fdetailseit
 e%2Fbuergerwerkstatt-ideen-zur-mobilitaet-der-zukunft-in-sprockhoevel-am-
 9-mai-2023-ab-1800-uhr%3C%2Fp%3E%0A":Alle Details finden sich hier: https
 ://www.sprockhoevel.de/aktuelles/detailseite/buergerwerkstatt-ideen-zur-m
 obilitaet-der-zukunft-in-sprockhoevel-am-9-mai-2023-ab-1800-uhr
CLASS:PUBLIC
DTSTART;TZID=Europe/Berlin:20230509T180000
DTEND;TZID=Europe/Berlin:20230509T200000
DTSTAMP:20260420T032405
END:VEVENT
END:VCALENDAR