BEGIN:VCALENDAR
VERSION:2.0
PRODID:gruene-sprockhoevel.de
METHOD:PUBLISH
BEGIN:VTIMEZONE
TZID:Europe/Berlin
X-LIC-LOCATION:Europe/Berlin
BEGIN:DAYLIGHT
TZOFFSETFROM:+0100
TZOFFSETTO:+0200
TZNAME:CEST
DTSTART:19700329T020000
RRULE:FREQ=YEARLY;INTERVAL=1;BYDAY=-1SU;BYMONTH=3
END:DAYLIGHT
BEGIN:STANDARD
TZOFFSETFROM:+0200
TZOFFSETTO:+0100
TZNAME:CET
DTSTART:19701025T030000
RRULE:FREQ=YEARLY;INTERVAL=1;BYDAY=-1SU;BYMONTH=10
END:STANDARD
END:VTIMEZONE
BEGIN:VEVENT
UID:09f9b32a31d073efa40d834da3b41014@gruene-sprockhoevel.de
URL;VALUE=URI:https://gruene-sprockhoevel.de/termine/drinks-debate-mit-ve
 rena-schaeffer/
LOCATION:Grünen Büro, Am Eicken 10c, Sprockhövel
SUMMARY:TERMIN ABGESAGT: Drinks & Debate mit Verena Schäffer!
DESCRIPTION;ALTREP="data:text/html,%0A%3Cp%3E%2A%2A%2A%20DER%20TERMIN%20I
 ST%20ABGESAGT%20-%20AUFGRUND%20GESUNDHEITLICHER%20GR%C3%9CNDE%20WIRD%20DI
 ESER%20VERSCHOBEN%20%2A%2A%2A%3C%2Fp%3E%0A%0A%0A%0A%3Cp%3EWir%20freuen%20
 uns%20sehr%2C%20dass%20Verena%20Sch%C3%A4ffer%2C%20als%20Expertin%20f%C3%
 BCr%20Innenpolitik%2C%20bei%20uns%20zu%20Gast%20sein%20wird%21%20Sie%20wi
 rd%20zu%20aktuellen%20Themen%20in%20der%20Landespolitik%20sprechen%20mit%
 20einem%20Schwerpunkt%20auf%20die%20Sicherheitspolitik.%20Vielleicht%20ha
 bt%20ihr%20ja%20auch%20noch%20ein%20Thema%20auf%20dem%20Herzen%2C%20was%2
 0ihr%20gerne%20mit%20Verena%20besprechen%20m%C3%B6chtet%3F%20Kommt%20gern
 e%20vorbei%20und%20nutzt%20die%20Gelegenheit.%3C%2Fp%3E%0A%0A%0A%0A%3Cp%3
 EParkm%C3%B6glichkeiten%20sind%20auf%20dem%20Parkplatz%20an%20der%20Gl%C3
 %BCck-Auf-Allee%20vorhanden.%20Von%20dort%20ist%20es%20nur%20ein%20kurzer
 %20Fu%C3%9Fweg%20von%20ca.%203%20Minuten%20in%20unser%20B%C3%BCro.%3C%2Fp
 %3E%0A%0A%0A%0A%3Cp%3E%3C%2Fp%3E%0A":*** DER TERMIN IST ABGESAGT - AUFGRU
 ND GESUNDHEITLICHER GRÜNDE WIRD DIESER VERSCHOBEN ***\n\nWir freuen uns 
 sehr\, dass Verena Schäffer\, als Expertin für Innenpolitik\, bei uns z
 u Gast sein wird! Sie wird zu aktuellen Themen in der Landespolitik sprec
 hen mit einem Schwerpunkt auf die Sicherheitspolitik. Vielleicht habt ihr
  ja auch noch ein Thema auf dem Herzen\, was ihr gerne mit Verena besprec
 hen möchtet? Kommt gerne vorbei und nutzt die Gelegenheit.\n\nParkmögli
 chkeiten sind auf dem Parkplatz an der Glück-Auf-Allee vorhanden. Von do
 rt ist es nur ein kurzer Fußweg von ca. 3 Minuten in unser Büro.
CLASS:PUBLIC
DTSTART;TZID=Europe/Berlin:20241011T193000
DTEND;TZID=Europe/Berlin:20241011T213000
DTSTAMP:20260420T052727
END:VEVENT
END:VCALENDAR