BEGIN:VCALENDAR
VERSION:2.0
PRODID:gruene-sprockhoevel.de
METHOD:PUBLISH
BEGIN:VTIMEZONE
TZID:Europe/Berlin
X-LIC-LOCATION:Europe/Berlin
BEGIN:DAYLIGHT
TZOFFSETFROM:+0100
TZOFFSETTO:+0200
TZNAME:CEST
DTSTART:19700329T020000
RRULE:FREQ=YEARLY;INTERVAL=1;BYDAY=-1SU;BYMONTH=3
END:DAYLIGHT
BEGIN:STANDARD
TZOFFSETFROM:+0200
TZOFFSETTO:+0100
TZNAME:CET
DTSTART:19701025T030000
RRULE:FREQ=YEARLY;INTERVAL=1;BYDAY=-1SU;BYMONTH=10
END:STANDARD
END:VTIMEZONE
BEGIN:VEVENT
UID:1a4e665e795e288feca81b1ff106f744@gruene-sprockhoevel.de
URL;VALUE=URI:https://gruene-sprockhoevel.de/termine/filmvorfuehrung-der-
 evangelischen-kirchengemeinde-bredenscheid-sprockhoevel/
LOCATION:Evangelisches Gemeindehaus, Perthes-Ring 18, 45549 Sprockhövel
SUMMARY:Filmvorführung der evangelischen Kirchengemeinde Bredenscheid-Sp
 rockhövel
DESCRIPTION;ALTREP="data:text/html,%0A%3Cp%3EFilmabend%3A%20Picknick%20in
 %20Moria%3Cbr%3EDie%20ev.%20Kirchengemeinde%20Bredenscheid-Sprockh%C3%B6v
 el%20l%C3%A4dt%20herzlich%20ein%20zur%20Filmvorf%C3%BChrung%20%22Picknick
 %20in%20Moria%22.%20Der%20Film%20thematisiert%20die%20Situation%20der%20G
 efl%C3%BCchteten%20an%20den%20europ%C3%A4ischen%20Au%C3%9Fengrenzen.%3Cbr
 %3EDie%20Veranstaltung%20findet%20am%2028.09.2023%20um%2019%3A00%20Uhr%20
 im%20Ev.%20Gemeindehaus%20am%20Perthes-Ring%2018%20statt.%3Cbr%3EWir%20un
 terst%C3%BCtzen%20diese%20Filmvorf%C3%BChrung%20sehr%20und%20freuen%20uns
 %20schon%21%3C%2Fp%3E%0A%0A%0A%0A%3Cp%3E%3Ca%20href%3D%22https%3A%2F%2Fgr
 uene-sprockhoevel.de%2F%3Fpage_id%3D6318%22%20data-type%3D%22page%22%20da
 ta-id%3D%226318%22%3EQuelle%20des%20Fotos%3A%20https%3A%2F%2Fwww.filmwelt
 verleih.de%2Fcinema%2Fmovie%2Fpicknick-in-moria%3C%2Fa%3E%3C%2Fp%3E%0A":F
 ilmabend: Picknick in MoriaDie ev. Kirchengemeinde Bredenscheid-Sprockhö
 vel lädt herzlich ein zur Filmvorführung "Picknick in Moria". Der Film 
 thematisiert die Situation der Geflüchteten an den europäischen Außeng
 renzen.Die Veranstaltung findet am 28.09.2023 um 19:00 Uhr im Ev. Gemeind
 ehaus am Perthes-Ring 18 statt.Wir unterstützen diese Filmvorführung se
 hr und freuen uns schon!\n\nQuelle des Fotos: https://www.filmweltverleih
 .de/cinema/movie/picknick-in-moria
CLASS:PUBLIC
DTSTART;TZID=Europe/Berlin:20230928T190000
DTEND;TZID=Europe/Berlin:20230928T213000
DTSTAMP:20260420T020435
END:VEVENT
END:VCALENDAR