BEGIN:VCALENDAR
VERSION:2.0
PRODID:gruene-sprockhoevel.de
METHOD:PUBLISH
BEGIN:VTIMEZONE
TZID:Europe/Berlin
X-LIC-LOCATION:Europe/Berlin
BEGIN:DAYLIGHT
TZOFFSETFROM:+0100
TZOFFSETTO:+0200
TZNAME:CEST
DTSTART:19700329T020000
RRULE:FREQ=YEARLY;INTERVAL=1;BYDAY=-1SU;BYMONTH=3
END:DAYLIGHT
BEGIN:STANDARD
TZOFFSETFROM:+0200
TZOFFSETTO:+0100
TZNAME:CET
DTSTART:19701025T030000
RRULE:FREQ=YEARLY;INTERVAL=1;BYDAY=-1SU;BYMONTH=10
END:STANDARD
END:VTIMEZONE
BEGIN:VEVENT
UID:f6abb108f9fe646865431c7a4513fe18@gruene-sprockhoevel.de
URL;VALUE=URI:https://gruene-sprockhoevel.de/termine/fraktionssitzung-17/
LOCATION:Grünes Büro, Am Eicken 10c, Sprockhövel
SUMMARY:Fraktionssitzung
DESCRIPTION;ALTREP="data:text/html,%0A%3Cp%3EOb%20Halloween%20oder%20nich
 t%2C%20Fraktionssitzungen%20finden%20meist%20statt.%20Hier%20diskutieren%
 20wir%20%C3%BCber%20die%20aktuell%20wichtigen%20Fragen%20in%20Sprockh%C3%
 B6vel%20und%20finden%20die%20Positionen%20von%20B%C3%BCndnis90%2FDie%20Gr
 %C3%BCnen%20f%C3%BCr%20die%20einzelnen%20Sachfragen.%20Die%20Sitzung%20is
 t%20%C3%B6ffentlich%2C%20alle%20interessierten%20Sprockh%C3%B6velerinnen%
 20und%20Sprockh%C3%B6veler%20sind%20nat%C3%BCrlich%20auch%20am%20Reformat
 ionstag%20herzlich%20eingeladen%21%3C%2Fp%3E%0A":Ob Halloween oder nicht\
 , Fraktionssitzungen finden meist statt. Hier diskutieren wir über die a
 ktuell wichtigen Fragen in Sprockhövel und finden die Positionen von Bü
 ndnis90/Die Grünen für die einzelnen Sachfragen. Die Sitzung ist öffen
 tlich\, alle interessierten Sprockhövelerinnen und Sprockhöveler sind n
 atürlich auch am Reformationstag herzlich eingeladen!
CLASS:PUBLIC
DTSTART;TZID=Europe/Berlin:20231031T193000
DTEND;TZID=Europe/Berlin:20231031T220000
DTSTAMP:20260419T202833
END:VEVENT
END:VCALENDAR