BEGIN:VCALENDAR
VERSION:2.0
PRODID:gruene-sprockhoevel.de
METHOD:PUBLISH
BEGIN:VTIMEZONE
TZID:Europe/Berlin
X-LIC-LOCATION:Europe/Berlin
BEGIN:DAYLIGHT
TZOFFSETFROM:+0100
TZOFFSETTO:+0200
TZNAME:CEST
DTSTART:19700329T020000
RRULE:FREQ=YEARLY;INTERVAL=1;BYDAY=-1SU;BYMONTH=3
END:DAYLIGHT
BEGIN:STANDARD
TZOFFSETFROM:+0200
TZOFFSETTO:+0100
TZNAME:CET
DTSTART:19701025T030000
RRULE:FREQ=YEARLY;INTERVAL=1;BYDAY=-1SU;BYMONTH=10
END:STANDARD
END:VTIMEZONE
BEGIN:VEVENT
UID:137672f8f5321d43c52e93d28004b2d4@gruene-sprockhoevel.de
URL;VALUE=URI:https://gruene-sprockhoevel.de/termine/fraktionssitzung-21/
LOCATION:Grünes Büro, Am Eicken 10c, 45549 Sprockhövel
SUMMARY:Fraktionssitzung
DESCRIPTION;ALTREP="data:text/html,%0A%3Cp%3EHier%20sprechen%20wir%20%C3%
 BCber%20die%20allt%C3%A4gliche%20Politik%20im%20Rat%20und%20in%20den%20st
 %C3%A4dtischen%20Aussch%C3%BCssen.%20Fast%20alle%20Themen%20sind%20%C3%B6
 ffentlich%2C%20Du%20bist%20also%20herzlich%20eingeladen%21%3C%2Fp%3E%0A":
 Hier sprechen wir über die alltägliche Politik im Rat und in den städt
 ischen Ausschüssen. Fast alle Themen sind öffentlich\, Du bist also her
 zlich eingeladen!
CLASS:PUBLIC
DTSTART;TZID=Europe/Berlin:20240130T193000
DTEND;TZID=Europe/Berlin:20240130T220000
DTSTAMP:20260420T052759
END:VEVENT
END:VCALENDAR