BEGIN:VCALENDAR
VERSION:2.0
PRODID:gruene-sprockhoevel.de
METHOD:PUBLISH
BEGIN:VTIMEZONE
TZID:Europe/Berlin
X-LIC-LOCATION:Europe/Berlin
BEGIN:DAYLIGHT
TZOFFSETFROM:+0100
TZOFFSETTO:+0200
TZNAME:CEST
DTSTART:19700329T020000
RRULE:FREQ=YEARLY;INTERVAL=1;BYDAY=-1SU;BYMONTH=3
END:DAYLIGHT
BEGIN:STANDARD
TZOFFSETFROM:+0200
TZOFFSETTO:+0100
TZNAME:CET
DTSTART:19701025T030000
RRULE:FREQ=YEARLY;INTERVAL=1;BYDAY=-1SU;BYMONTH=10
END:STANDARD
END:VTIMEZONE
BEGIN:VEVENT
UID:8d82dce355572eb84cf412ed610d145e@gruene-sprockhoevel.de
URL;VALUE=URI:https://gruene-sprockhoevel.de/termine/fraktionssitzung-mit
 -der-jugendamtsleitung-2/
LOCATION:Grünes Büro, Am Eicken 10c, Sprockhövel
SUMMARY:Fraktionssitzung mit der Jugendamtsleitung Frau Bartels
DESCRIPTION;ALTREP="data:text/html,%0A%3Cp%3EAuf%20dieser%20Sitzung%20dis
 kutieren%20wir%20haupts%C3%A4chlich%20%C3%BCber%20die%20Fragen%20der%20Ju
 gendhilfepolitik.%20Daneben%20sind%20einige%20aktuellen%20Themen%20auf%20
 der%20Tagesordnung%2C%20die%20vielfach%20aber%20nicht%20%C3%B6ffentlich%2
 0sind.%20%3C%2Fp%3E%0A":Auf dieser Sitzung diskutieren wir hauptsächlich
  über die Fragen der Jugendhilfepolitik. Daneben sind einige aktuellen T
 hemen auf der Tagesordnung\, die vielfach aber nicht öffentlich sind.
CLASS:PUBLIC
DTSTART;TZID=Europe/Berlin:20240409T193000
DTEND;TZID=Europe/Berlin:20240409T220000
DTSTAMP:20260419T202839
END:VEVENT
END:VCALENDAR