BEGIN:VCALENDAR
VERSION:2.0
PRODID:gruene-sprockhoevel.de
METHOD:PUBLISH
BEGIN:VTIMEZONE
TZID:Europe/Berlin
X-LIC-LOCATION:Europe/Berlin
BEGIN:DAYLIGHT
TZOFFSETFROM:+0100
TZOFFSETTO:+0200
TZNAME:CEST
DTSTART:19700329T020000
RRULE:FREQ=YEARLY;INTERVAL=1;BYDAY=-1SU;BYMONTH=3
END:DAYLIGHT
BEGIN:STANDARD
TZOFFSETFROM:+0200
TZOFFSETTO:+0100
TZNAME:CET
DTSTART:19701025T030000
RRULE:FREQ=YEARLY;INTERVAL=1;BYDAY=-1SU;BYMONTH=10
END:STANDARD
END:VTIMEZONE
BEGIN:VEVENT
UID:0fd65d2f393f63d3b2362d46a4107d07@gruene-sprockhoevel.de
URL;VALUE=URI:https://gruene-sprockhoevel.de/termine/fraktionssitzung-mit
 -geschaeftsbereichsleitung-frau-goerner/
LOCATION:Grünes Büro, Am Eicken 10c, Sprockhövel
SUMMARY:Fraktionssitzung mit Geschäftsbereichsleitung Frau Görner
DESCRIPTION;ALTREP="data:text/html,%0A%3Cp%3EHier%20besprechen%20wir%20un
 ter%20anderem%20die%20aktuellen%20Themenbereiche%20der%20Stadt-%20und%20V
 erkehrsentwicklung%20sowie%20kommunaler%20Klimaschutz-%20und%20Umweltfrag
 en%20mit%20der%20daf%C3%BCr%20zust%C3%A4ndigen%20Gesch%C3%A4ftsbereichsle
 itung%20der%20Stadtverwaltung.%20Komm%20gern%20vorbei%20und%20diskutier%2
 0mit%21%3C%2Fp%3E%0A":Hier besprechen wir unter anderem die aktuellen The
 menbereiche der Stadt- und Verkehrsentwicklung sowie kommunaler Klimaschu
 tz- und Umweltfragen mit der dafür zuständigen Geschäftsbereichsleitun
 g der Stadtverwaltung. Komm gern vorbei und diskutier mit!
CLASS:PUBLIC
DTSTART;TZID=Europe/Berlin:20240423T193000
DTEND;TZID=Europe/Berlin:20240423T220000
DTSTAMP:20260419T203029
END:VEVENT
END:VCALENDAR