BEGIN:VCALENDAR
VERSION:2.0
PRODID:gruene-sprockhoevel.de
METHOD:PUBLISH
BEGIN:VTIMEZONE
TZID:Europe/Berlin
X-LIC-LOCATION:Europe/Berlin
BEGIN:DAYLIGHT
TZOFFSETFROM:+0100
TZOFFSETTO:+0200
TZNAME:CEST
DTSTART:19700329T020000
RRULE:FREQ=YEARLY;INTERVAL=1;BYDAY=-1SU;BYMONTH=3
END:DAYLIGHT
BEGIN:STANDARD
TZOFFSETFROM:+0200
TZOFFSETTO:+0100
TZNAME:CET
DTSTART:19701025T030000
RRULE:FREQ=YEARLY;INTERVAL=1;BYDAY=-1SU;BYMONTH=10
END:STANDARD
END:VTIMEZONE
BEGIN:VEVENT
UID:ea2b4136ef2a6fcfdc0b84aefd9f3db6@gruene-sprockhoevel.de
URL;VALUE=URI:https://gruene-sprockhoevel.de/termine/gruener-salon-2/
LOCATION:Grünes Büro, Am Eicken 10c, Sprockhövel
SUMMARY:Grüner Salon
DESCRIPTION;ALTREP="data:text/html,%0A%3Cp%3EHier%20k%C3%B6nnt%20ihr%20un
 s%20Gr%C3%BCne%20bei%20%27nem%20k%C3%BChlen%20Getr%C3%A4nk%20kennenlernen
 .%20Ein%20idealer%20Termin%20f%C3%BCr%20alle%20Interessierten%21%3C%2Fp%3
 E%0A":Hier könnt ihr uns Grüne bei 'nem kühlen Getränk kennenlernen. 
 Ein idealer Termin für alle Interessierten!
CLASS:PUBLIC
DTSTART;TZID=Europe/Berlin:20230707T200000
DTEND;TZID=Europe/Berlin:20230707T220000
DTSTAMP:20260420T052934
END:VEVENT
END:VCALENDAR