BEGIN:VCALENDAR
VERSION:2.0
PRODID:gruene-sprockhoevel.de
METHOD:PUBLISH
BEGIN:VTIMEZONE
TZID:Europe/Berlin
X-LIC-LOCATION:Europe/Berlin
BEGIN:DAYLIGHT
TZOFFSETFROM:+0100
TZOFFSETTO:+0200
TZNAME:CEST
DTSTART:19700329T020000
RRULE:FREQ=YEARLY;INTERVAL=1;BYDAY=-1SU;BYMONTH=3
END:DAYLIGHT
BEGIN:STANDARD
TZOFFSETFROM:+0200
TZOFFSETTO:+0100
TZNAME:CET
DTSTART:19701025T030000
RRULE:FREQ=YEARLY;INTERVAL=1;BYDAY=-1SU;BYMONTH=10
END:STANDARD
END:VTIMEZONE
BEGIN:VEVENT
UID:bcabcca4488ebf860fb73f05b6c883d0@gruene-sprockhoevel.de
URL;VALUE=URI:https://gruene-sprockhoevel.de/termine/gruener-salon-3/
LOCATION:Grünes Büro, Hauptstraße 21, Sprockhövel
SUMMARY:ENTFÄLLT! Grüner Salon
DESCRIPTION;ALTREP="data:text/html,%0A%3Cp%3EWie%20jeden%20ersten%20Freit
 ag%20im%20Monat%20findet%20wieder%20der%20Gr%C3%BCne%20Salon%20statt.%20H
 ier%20ist%20Zeit%20f%C3%BCr%20Fragen%20und%20nette%20Gespr%C3%A4che%20bei
 %20guten%20Getr%C3%A4nken.%20Komm%20gerne%20vorbei%20und%20lerne%20uns%20
 kennen%21%3C%2Fp%3E%0A":Wie jeden ersten Freitag im Monat findet wieder d
 er Grüne Salon statt. Hier ist Zeit für Fragen und nette Gespräche bei
  guten Getränken. Komm gerne vorbei und lerne uns kennen!
CLASS:PUBLIC
DTSTART;TZID=Europe/Berlin:20251003T200000
DTEND;TZID=Europe/Berlin:20251003T220000
DTSTAMP:20260420T020346
END:VEVENT
END:VCALENDAR