BEGIN:VCALENDAR
VERSION:2.0
PRODID:gruene-sprockhoevel.de
METHOD:PUBLISH
BEGIN:VTIMEZONE
TZID:Europe/Berlin
X-LIC-LOCATION:Europe/Berlin
BEGIN:DAYLIGHT
TZOFFSETFROM:+0100
TZOFFSETTO:+0200
TZNAME:CEST
DTSTART:19700329T020000
RRULE:FREQ=YEARLY;INTERVAL=1;BYDAY=-1SU;BYMONTH=3
END:DAYLIGHT
BEGIN:STANDARD
TZOFFSETFROM:+0200
TZOFFSETTO:+0100
TZNAME:CET
DTSTART:19701025T030000
RRULE:FREQ=YEARLY;INTERVAL=1;BYDAY=-1SU;BYMONTH=10
END:STANDARD
END:VTIMEZONE
BEGIN:VEVENT
UID:8d409943bf4d40d83c9b4022ea848c71@gruene-sprockhoevel.de
URL;VALUE=URI:https://gruene-sprockhoevel.de/termine/gruener-salon-4/
LOCATION:Grünes Büro, Am Eicken 10c, Sprockhövel
SUMMARY:Wahlkampfauftakt zur Bundestagswahl: Grüner Salon mit Janosch Da
 hmen
DESCRIPTION;ALTREP="data:text/html,%0A%3Cp%3EDieser%20Gr%C3%BCne%20Salon%
 20wird%20besonders%20spannend.%20Denn%20diesmal%20sprechen%20wir%20mit%20
 Janosch%20Dahmen%20%C3%BCber%20die%20bevorstehende%20Bundestagswahl.%20Wa
 s%20war%3F%20Was%20kommt%3F%20Janosch%20Dahmen%20wird%20uns%20in%20locker
 er%20und%20gem%C3%BCtlicher%20Atmosph%C3%A4re%20einen%20%C3%9Cberblick%20
 %C3%BCber%20Aktuelles%20aus%20Berlin%20geben.%3C%2Fp%3E%0A%0A%0A%0A%3Cp%3
 E%3C%2Fp%3E%0A%0A%0A%0A%3Cp%3E%3C%2Fp%3E%0A":Dieser Grüne Salon wird bes
 onders spannend. Denn diesmal sprechen wir mit Janosch Dahmen über die b
 evorstehende Bundestagswahl. Was war? Was kommt? Janosch Dahmen wird uns 
 in lockerer und gemütlicher Atmosphäre einen Überblick über Aktuelles
  aus Berlin geben.
CLASS:PUBLIC
DTSTART;TZID=Europe/Berlin:20250110T200000
DTEND;TZID=Europe/Berlin:20250110T220000
DTSTAMP:20260419T202845
END:VEVENT
END:VCALENDAR