BEGIN:VCALENDAR
VERSION:2.0
PRODID:gruene-sprockhoevel.de
METHOD:PUBLISH
BEGIN:VTIMEZONE
TZID:Europe/Berlin
X-LIC-LOCATION:Europe/Berlin
BEGIN:DAYLIGHT
TZOFFSETFROM:+0100
TZOFFSETTO:+0200
TZNAME:CEST
DTSTART:19700329T020000
RRULE:FREQ=YEARLY;INTERVAL=1;BYDAY=-1SU;BYMONTH=3
END:DAYLIGHT
BEGIN:STANDARD
TZOFFSETFROM:+0200
TZOFFSETTO:+0100
TZNAME:CET
DTSTART:19701025T030000
RRULE:FREQ=YEARLY;INTERVAL=1;BYDAY=-1SU;BYMONTH=10
END:STANDARD
END:VTIMEZONE
BEGIN:VEVENT
UID:43d84b3cf5b849823a69425354b7c2b0@gruene-sprockhoevel.de
URL;VALUE=URI:https://gruene-sprockhoevel.de/termine/gruener-salon-5/
LOCATION:Grünes Büro, Hauptstraße 21, Sprockhövel
SUMMARY:GRÜNER Salon
DESCRIPTION;ALTREP="data:text/html,%0A%3Cp%3EAuf%20Grund%20des%20Feiertag
 es%20verschieben%20wir%20auf%20den%20zweiten%20Freitag%20im%20Monat%20uns
 eren%20Gr%C3%BCnen%20Salon.%20Hier%20ist%20Zeit%20f%C3%BCr%20Fragen%20und
 %20nette%20Gespr%C3%A4che%20bei%20guten%20Getr%C3%A4nken.%20Komm%20gerne%
 20vorbei%20und%20lerne%20uns%20kennen%21%3C%2Fp%3E%0A%0A%0A%0A%3Cp%3E%3C%
 2Fp%3E%0A":Auf Grund des Feiertages verschieben wir auf den zweiten Freit
 ag im Monat unseren Grünen Salon. Hier ist Zeit für Fragen und nette Ge
 spräche bei guten Getränken. Komm gerne vorbei und lerne uns kennen!
CLASS:PUBLIC
DTSTART;TZID=Europe/Berlin:20260508T190000
DTEND;TZID=Europe/Berlin:20260508T213000
DTSTAMP:20260420T065744
END:VEVENT
END:VCALENDAR