BEGIN:VCALENDAR
VERSION:2.0
PRODID:gruene-sprockhoevel.de
METHOD:PUBLISH
BEGIN:VTIMEZONE
TZID:Europe/Berlin
X-LIC-LOCATION:Europe/Berlin
BEGIN:DAYLIGHT
TZOFFSETFROM:+0100
TZOFFSETTO:+0200
TZNAME:CEST
DTSTART:19700329T020000
RRULE:FREQ=YEARLY;INTERVAL=1;BYDAY=-1SU;BYMONTH=3
END:DAYLIGHT
BEGIN:STANDARD
TZOFFSETFROM:+0200
TZOFFSETTO:+0100
TZNAME:CET
DTSTART:19701025T030000
RRULE:FREQ=YEARLY;INTERVAL=1;BYDAY=-1SU;BYMONTH=10
END:STANDARD
END:VTIMEZONE
BEGIN:VEVENT
UID:5e26f9a5a2a1fae0599d14c7244eff21@gruene-sprockhoevel.de
URL;VALUE=URI:https://gruene-sprockhoevel.de/termine/gruener-salon-fuer-m
 itglieder-und-interessierte/
LOCATION:Grünes Büro, Am Eicken 10c, Sprockhövel
SUMMARY:Grüner Salon für Mitglieder und Interessierte
DESCRIPTION;ALTREP="data:text/html,":
CLASS:PUBLIC
DTSTART;TZID=Europe/Berlin:20230303T200000
DTEND;TZID=Europe/Berlin:20230303T220000
DTSTAMP:20260420T020416
END:VEVENT
END:VCALENDAR