BEGIN:VCALENDAR
VERSION:2.0
PRODID:gruene-sprockhoevel.de
METHOD:PUBLISH
BEGIN:VTIMEZONE
TZID:Europe/Berlin
X-LIC-LOCATION:Europe/Berlin
BEGIN:DAYLIGHT
TZOFFSETFROM:+0100
TZOFFSETTO:+0200
TZNAME:CEST
DTSTART:19700329T020000
RRULE:FREQ=YEARLY;INTERVAL=1;BYDAY=-1SU;BYMONTH=3
END:DAYLIGHT
BEGIN:STANDARD
TZOFFSETFROM:+0200
TZOFFSETTO:+0100
TZNAME:CET
DTSTART:19701025T030000
RRULE:FREQ=YEARLY;INTERVAL=1;BYDAY=-1SU;BYMONTH=10
END:STANDARD
END:VTIMEZONE
BEGIN:VEVENT
UID:721ba2dcd6e23a24e3ffc9d268417cf5@gruene-sprockhoevel.de
URL;VALUE=URI:https://gruene-sprockhoevel.de/termine/gruener-salon-fuer-m
 itglieder-und-interessierte-2/
LOCATION:Grünes Büro, Am Eicken 10c, Sprockhövel
SUMMARY:Grüner Salon für Mitglieder und Interessierte
DESCRIPTION;ALTREP="data:text/html,%0A%3Cp%3EDie%20Gr%C3%BCnen%20n%C3%A4h
 er%20kennenlernen%3F%20Kein%20Problem%20-%20im%20gr%C3%BCnen%20Salon%20tr
 effen%20wir%20uns%20auf%20ein%20Bier%20oder%20nen%20Tee.%20Komm%20gerne%2
 0vorbei%21%3C%2Fp%3E%0A":Die Grünen näher kennenlernen? Kein Problem - 
 im grünen Salon treffen wir uns auf ein Bier oder nen Tee. Komm gerne vo
 rbei!
CLASS:PUBLIC
DTSTART;TZID=Europe/Berlin:20230407T200000
DTEND;TZID=Europe/Berlin:20230407T220000
DTSTAMP:20260420T020435
END:VEVENT
END:VCALENDAR