BEGIN:VCALENDAR
VERSION:2.0
PRODID:gruene-sprockhoevel.de
METHOD:PUBLISH
BEGIN:VTIMEZONE
TZID:Europe/Berlin
X-LIC-LOCATION:Europe/Berlin
BEGIN:DAYLIGHT
TZOFFSETFROM:+0100
TZOFFSETTO:+0200
TZNAME:CEST
DTSTART:19700329T020000
RRULE:FREQ=YEARLY;INTERVAL=1;BYDAY=-1SU;BYMONTH=3
END:DAYLIGHT
BEGIN:STANDARD
TZOFFSETFROM:+0200
TZOFFSETTO:+0100
TZNAME:CET
DTSTART:19701025T030000
RRULE:FREQ=YEARLY;INTERVAL=1;BYDAY=-1SU;BYMONTH=10
END:STANDARD
END:VTIMEZONE
BEGIN:VEVENT
UID:ca8f89ee1e54b039c3d4abc4ee222b0c@gruene-sprockhoevel.de
URL;VALUE=URI:https://gruene-sprockhoevel.de/termine/gruener-spaziergang-
 beispiel-von-ausgleichsmassnahmen/
LOCATION:Sprockhövel
SUMMARY:GRÜNER Spaziergang „Beispiel von Ausgleichsmaßnahmen“
DESCRIPTION;ALTREP="data:text/html,%3Cdiv%20class%3D%22kvgmc6g5%20cxmmr5t
 8%20oygrvhab%20hcukyx3x%20c1et5uql%22%3EDie%20Gr%C3%BCnen%20mit%20Ihrem%2
 0Kandidaten%20f%C3%BCr%20den%20Wahlbezirk%20Obersprockh%C3%B6vel%20Rolf%2
 0Nedden%2C%20laden%20ein%2C%20einem%20GR%C3%9CNEN%20Spaziergang.%0D%0ATre
 ffpunkt%20ist%20auf%20den%20Parkplatz%20des%20IGM-Bildungszentrum%20Sproc
 kh%C3%B6vel.%3C%2Fdiv%3E%0D%0A%3Cdiv%20class%3D%22o9v6fnle%20cxmmr5t8%20o
 ygrvhab%20hcukyx3x%20c1et5uql%22%3EBei%20Fragen%20der%20Industrieansiedlu
 ng%20in%20Sprockh%C3%B6vel%20steht%20wertvolle%20Naturfl%C3%A4che%20zur%2
 0Nutzung%20im%20Focus.%3C%2Fdiv%3E%0D%0A%3Cdiv%20class%3D%22o9v6fnle%20cx
 mmr5t8%20oygrvhab%20hcukyx3x%20c1et5uql%22%3EDann%20kommt%20schnell%20das
 %20Argument%3A%20%E2%80%9EDas%20bringen%20wir%20mit%20einer%20Ausgleichsm
 a%C3%9Fnahme%20in%20Ordnung%21%E2%80%9C%20Ist%20das%20wirklich%20so%20ein
 fach%3F%3C%2Fdiv%3E%0D%0A%3Cdiv%20class%3D%22o9v6fnle%20cxmmr5t8%20oygrvh
 ab%20hcukyx3x%20c1et5uql%22%3EDie%20Ziele%20und%20der%20Umfang%20der%20Au
 sgleichsma%C3%9Fnahmen%20im%20Zusammenhang%20mit%20dem%20Neubau%20der%20I
 GM-Bildungsst%C3%A4tte%20werden%20vom%20Technischen%20Leiter%20Gerd%20Wag
 enknecht%20bei%20einem%20Rundgang%20vorgestellt.%3C%2Fdiv%3E%0D%0A%3Cdiv%
 20class%3D%22o9v6fnle%20cxmmr5t8%20oygrvhab%20hcukyx3x%20c1et5uql%22%3EDe
 r%20Landwirt%20J%C3%B6rn%20Kehrmann%20beweidet%20mit%20seinen%20Fleischri
 ndern%20und%20Schafen%20Ausgleichsfl%C3%A4chen%20und%20berichtet%20von%20
 seinen%20Erfahrungen.%3C%2Fdiv%3E%0D%0A%3Cdiv%20class%3D%22o9v6fnle%20cxm
 mr5t8%20oygrvhab%20hcukyx3x%20c1et5uql%22%3EDie%20Beitr%C3%A4ge%20sind%20
 eine%20Einladung%20zu%20einem%20Meinungsaustausch.%3C%2Fdiv%3E":Die Grün
 en mit Ihrem Kandidaten für den Wahlbezirk Obersprockhövel Rolf Nedden\
 , laden ein\, einem GRÜNEN Spaziergang.\n\nTreffpunkt ist auf den Parkpl
 atz des IGM-Bildungszentrum Sprockhövel.\n\nBei Fragen der Industrieansi
 edlung in Sprockhövel steht wertvolle Naturfläche zur Nutzung im Focus.
 \n\nDann kommt schnell das Argument: „Das bringen wir mit einer Ausglei
 chsmaßnahme in Ordnung!“ Ist das wirklich so einfach?\n\nDie Ziele und
  der Umfang der Ausgleichsmaßnahmen im Zusammenhang mit dem Neubau der I
 GM-Bildungsstätte werden vom Technischen Leiter Gerd Wagenknecht bei ein
 em Rundgang vorgestellt.\n\nDer Landwirt Jörn Kehrmann beweidet mit sein
 en Fleischrindern und Schafen Ausgleichsflächen und berichtet von seinen
  Erfahrungen.\n\nDie Beiträge sind eine Einladung zu einem Meinungsausta
 usch.
CLASS:PUBLIC
DTSTART;TZID=Europe/Berlin:20200819T180000
DTEND;TZID=Europe/Berlin:20200816T200000
DTSTAMP:20260420T020416
END:VEVENT
END:VCALENDAR