BEGIN:VCALENDAR
VERSION:2.0
PRODID:gruene-sprockhoevel.de
METHOD:PUBLISH
BEGIN:VTIMEZONE
TZID:Europe/Berlin
X-LIC-LOCATION:Europe/Berlin
BEGIN:DAYLIGHT
TZOFFSETFROM:+0100
TZOFFSETTO:+0200
TZNAME:CEST
DTSTART:19700329T020000
RRULE:FREQ=YEARLY;INTERVAL=1;BYDAY=-1SU;BYMONTH=3
END:DAYLIGHT
BEGIN:STANDARD
TZOFFSETFROM:+0200
TZOFFSETTO:+0100
TZNAME:CET
DTSTART:19701025T030000
RRULE:FREQ=YEARLY;INTERVAL=1;BYDAY=-1SU;BYMONTH=10
END:STANDARD
END:VTIMEZONE
BEGIN:VEVENT
UID:8710861778aa5a4669371e6030b6fe66@gruene-sprockhoevel.de
URL;VALUE=URI:https://gruene-sprockhoevel.de/termine/gruener-stammtisch-s
 ave-the-date-4/
LOCATION:
SUMMARY:GRÜNER Stammtisch, Save the Date!
DESCRIPTION;ALTREP="data:text/html,%3Cimg%20class%3D%22alignnone%20size-m
 edium%20wp-image-2541%22%20src%3D%22http%3A%2F%2Fwww.gruene-sprockhoevel.
 de%2Fwp-content%2Fuploads%2F2019%2F08%2F66323976_2336119979804600_8160121
 490814009344_n-400x189.jpg%22%20alt%3D%22%22%20width%3D%22400%22%20height
 %3D%22189%22%20%2F%3E%0ATrattoria%20Pizzeria%20Prezzemolo%2C%0AWittener%2
 0Str.%20118A%2C%0A45549%20Sprockh%C3%B6vel":Trattoria Pizzeria Prezzemolo
 \,\n\nWittener Str. 118A\,\n\n45549 Sprockhövel
CLASS:PUBLIC
DTSTART;TZID=Europe/Berlin:20191121T191500
DTEND;TZID=Europe/Berlin:20191121T201500
DTSTAMP:20260419T203007
END:VEVENT
END:VCALENDAR