BEGIN:VCALENDAR
VERSION:2.0
PRODID:gruene-sprockhoevel.de
METHOD:PUBLISH
BEGIN:VTIMEZONE
TZID:Europe/Berlin
X-LIC-LOCATION:Europe/Berlin
BEGIN:DAYLIGHT
TZOFFSETFROM:+0100
TZOFFSETTO:+0200
TZNAME:CEST
DTSTART:19700329T020000
RRULE:FREQ=YEARLY;INTERVAL=1;BYDAY=-1SU;BYMONTH=3
END:DAYLIGHT
BEGIN:STANDARD
TZOFFSETFROM:+0200
TZOFFSETTO:+0100
TZNAME:CET
DTSTART:19701025T030000
RRULE:FREQ=YEARLY;INTERVAL=1;BYDAY=-1SU;BYMONTH=10
END:STANDARD
END:VTIMEZONE
BEGIN:VEVENT
UID:37521417f630ad3906564a83e678110b@gruene-sprockhoevel.de
URL;VALUE=URI:https://gruene-sprockhoevel.de/termine/gruener-stammtisch-s
 ave-the-date-5/
LOCATION:Gaststätte Zum Amtshaus, Mittelstraße 15, 45549 Sprockhövel, 
 Sprockhövel-Haßlinghausen
SUMMARY:GRÜNER Stammtisch, Save the Date!
DESCRIPTION;ALTREP="data:text/html,%3Cimg%20class%3D%22alignnone%20size-m
 edium%20wp-image-2541%22%20src%3D%22http%3A%2F%2Fwww.gruene-sprockhoevel.
 de%2Fwp-content%2Fuploads%2F2019%2F08%2F66323976_2336119979804600_8160121
 490814009344_n-400x189.jpg%22%20alt%3D%22%22%20width%3D%22400%22%20height
 %3D%22189%22%20%2F%3E%0AGastst%C3%A4tte%20Zum%20Amtshaus%0AMittelstra%C3%
 9Fe%2015%2C%2045549%20Sprockh%C3%B6vel":Gaststätte Zum Amtshaus\n\nMitte
 lstraße 15\, 45549 Sprockhövel
CLASS:PUBLIC
DTSTART;TZID=Europe/Berlin:20200116T190000
DTEND;TZID=Europe/Berlin:20200116T210000
DTSTAMP:20260419T233426
END:VEVENT
END:VCALENDAR