BEGIN:VCALENDAR
VERSION:2.0
PRODID:gruene-sprockhoevel.de
METHOD:PUBLISH
BEGIN:VTIMEZONE
TZID:Europe/Berlin
X-LIC-LOCATION:Europe/Berlin
BEGIN:DAYLIGHT
TZOFFSETFROM:+0100
TZOFFSETTO:+0200
TZNAME:CEST
DTSTART:19700329T020000
RRULE:FREQ=YEARLY;INTERVAL=1;BYDAY=-1SU;BYMONTH=3
END:DAYLIGHT
BEGIN:STANDARD
TZOFFSETFROM:+0200
TZOFFSETTO:+0100
TZNAME:CET
DTSTART:19701025T030000
RRULE:FREQ=YEARLY;INTERVAL=1;BYDAY=-1SU;BYMONTH=10
END:STANDARD
END:VTIMEZONE
BEGIN:VEVENT
UID:a13845710054cebc6d96c8d69626f83d@gruene-sprockhoevel.de
URL;VALUE=URI:https://gruene-sprockhoevel.de/termine/info-abend-zur-waerm
 ewende/
LOCATION:Foyer der Glückaufhalle, Dresdener Straße 11, Sprockhövel
SUMMARY:Info-Abend zur Wärmewende
DESCRIPTION;ALTREP="data:text/html,%0A%3Cp%3EIn%20den%20vergangenen%20Mon
 aten%20wurde%20viel%20%C3%BCber%20das%20neue%20Geb%C3%A4udeenergiegesetz%
 20berichtet%20-%20Horrorszenarien%20und%20viele%20Falschnachrichten%20hab
 en%20die%20Debatte%20gepr%C3%A4gt%2C%20%C3%BCber%20dreiviertel%20der%20B%
 C3%BCrger%20f%C3%BChlen%20sich%20laut%20Deutschlandtrend%20nicht%20richti
 g%20informiert.%20Wir%20wollen%20nun%20selber%20kritisch%20auf%20die%20ne
 ue%20Gesetzgebung%20blicken%3A%20Was%20ist%20bundesweit%20geplant%2C%20wa
 s%20%C3%A4ndert%20sich%20f%C3%BCr%20die%20B%C3%BCrgerinnen%20und%20B%C3%B
 Crger%20Sprockh%C3%B6vels%3F%20Welche%20Fristen%20muss%20ich%20beachten%3
 F%20Gibt%20es%20F%C3%B6rderm%C3%B6glichkeiten%3F%20Dazu%20haben%20wir%20d
 en%20Sprockh%C3%B6veler%20%3Cstrong%3EFrank%20Richert%3C%2Fstrong%3E%20ei
 ngeladen%2C%20der%20als%20%3Cstrong%3Eunabh%C3%A4ngiger%20Energieberater%
 20und%20W%C3%A4rmeplaner%3C%2Fstrong%3E%20in%20dem%20Bereich%20seit%20vie
 len%20Jahren%20t%C3%A4tig%20ist%20und%20auch%20fachlich%20etwas%20zu%20de
 m%20geplanten%20Gesetz%20sagen%20kann.%20Nach%20einem%20Vortrag%20wird%20
 es%20auch%20Zeit%20f%C3%BCr%20Fragen%20geben%2C%20die%20viele%20bestimmt%
 20haben.%20Kommt%20also%20gerne%20vorbei%20und%20sprecht%20mit%20uns%20%C
 3%BCber%20die%20geplanten%20%C3%84nderungen%21%3C%2Fp%3E%0A":In den verga
 ngenen Monaten wurde viel über das neue Gebäudeenergiegesetz berichtet 
 - Horrorszenarien und viele Falschnachrichten haben die Debatte geprägt\
 , über dreiviertel der Bürger fühlen sich laut Deutschlandtrend nicht 
 richtig informiert. Wir wollen nun selber kritisch auf die neue Gesetzgeb
 ung blicken: Was ist bundesweit geplant\, was ändert sich für die Bürg
 erinnen und Bürger Sprockhövels? Welche Fristen muss ich beachten? Gibt
  es Fördermöglichkeiten? Dazu haben wir den Sprockhöveler Frank Richer
 t eingeladen\, der als unabhängiger Energieberater und Wärmeplaner in d
 em Bereich seit vielen Jahren tätig ist und auch fachlich etwas zu dem g
 eplanten Gesetz sagen kann. Nach einem Vortrag wird es auch Zeit für Fra
 gen geben\, die viele bestimmt haben. Kommt also gerne vorbei und sprecht
  mit uns über die geplanten Änderungen!
CLASS:PUBLIC
DTSTART;TZID=Europe/Berlin:20230907T180000
DTEND;TZID=Europe/Berlin:20230907T200000
DTSTAMP:20260419T202845
END:VEVENT
END:VCALENDAR