BEGIN:VCALENDAR
VERSION:2.0
PRODID:gruene-sprockhoevel.de
METHOD:PUBLISH
BEGIN:VTIMEZONE
TZID:Europe/Berlin
X-LIC-LOCATION:Europe/Berlin
BEGIN:DAYLIGHT
TZOFFSETFROM:+0100
TZOFFSETTO:+0200
TZNAME:CEST
DTSTART:19700329T020000
RRULE:FREQ=YEARLY;INTERVAL=1;BYDAY=-1SU;BYMONTH=3
END:DAYLIGHT
BEGIN:STANDARD
TZOFFSETFROM:+0200
TZOFFSETTO:+0100
TZNAME:CET
DTSTART:19701025T030000
RRULE:FREQ=YEARLY;INTERVAL=1;BYDAY=-1SU;BYMONTH=10
END:STANDARD
END:VTIMEZONE
BEGIN:VEVENT
UID:3c9c830418e8be7f7bb146b03268ba65@gruene-sprockhoevel.de
URL;VALUE=URI:https://gruene-sprockhoevel.de/termine/informationsveransta
 ltung-fuer-interessierte-und-neumitglieder/
LOCATION:Grünen Büro, Am Eicken 10c, Sprockhövel
SUMMARY:Informationsveranstaltung für Interessierte und Neumitglieder!
DESCRIPTION;ALTREP="data:text/html,%0A%3Cp%3EIhr%20seid%20herzlich%20eing
 eladen%21%21%21%3Cbr%3E%3C%2Fp%3E%0A%0A%0A%0A%3Cp%3EAlle%2C%20die%20mehr%
 20%C3%BCber%20uns%2C%20unsere%20Arbeit%20und%20M%C3%B6glichkeiten%20sich%
 20zu%20engagieren%20erfahren%20m%C3%B6chten%2C%20sind%20willkommen%21%3C%
 2Fp%3E%0A%0A%0A%0A%3Cp%3EWir%20freuen%20uns%20auf%20frischen%20Wind%2C%20
 kreative%20Ideen%20und%20neue%20Gesichter%20-%20wir%20freuen%20uns%20auf%
 20dich%21%3C%2Fp%3E%0A%0A%0A%0A%3Cp%3E%3C%2Fp%3E%0A":Ihr seid herzlich ei
 ngeladen!!!\n\nAlle\, die mehr über uns\, unsere Arbeit und Möglichkeit
 en sich zu engagieren erfahren möchten\, sind willkommen!\n\nWir freuen 
 uns auf frischen Wind\, kreative Ideen und neue Gesichter - wir freuen un
 s auf dich!
CLASS:PUBLIC
DTSTART;TZID=Europe/Berlin:20241217T190000
DTEND;TZID=Europe/Berlin:20241217T210000
DTSTAMP:20260420T033628
END:VEVENT
END:VCALENDAR