BEGIN:VCALENDAR
VERSION:2.0
PRODID:gruene-sprockhoevel.de
METHOD:PUBLISH
BEGIN:VTIMEZONE
TZID:Europe/Berlin
X-LIC-LOCATION:Europe/Berlin
BEGIN:DAYLIGHT
TZOFFSETFROM:+0100
TZOFFSETTO:+0200
TZNAME:CEST
DTSTART:19700329T020000
RRULE:FREQ=YEARLY;INTERVAL=1;BYDAY=-1SU;BYMONTH=3
END:DAYLIGHT
BEGIN:STANDARD
TZOFFSETFROM:+0200
TZOFFSETTO:+0100
TZNAME:CET
DTSTART:19701025T030000
RRULE:FREQ=YEARLY;INTERVAL=1;BYDAY=-1SU;BYMONTH=10
END:STANDARD
END:VTIMEZONE
BEGIN:VEVENT
UID:f8307908d40711f91df5a367d4c8ac7a@gruene-sprockhoevel.de
URL;VALUE=URI:https://gruene-sprockhoevel.de/termine/infostand-in-hasslin
 ghausen/
LOCATION:Neben der Eisdiele Kuhbar, Mittelstraße 30, Sprockhövel
SUMMARY:Infostand in Haßlinghausen
DESCRIPTION;ALTREP="data:text/html,%0A%3Cp%3EKommt%20gerne%20vorbei%21%3C
 %2Fp%3E%0A":Kommt gerne vorbei!
CLASS:PUBLIC
DTSTART;TZID=Europe/Berlin:20230902T110000
DTEND;TZID=Europe/Berlin:20230902T130000
DTSTAMP:20260420T052934
END:VEVENT
END:VCALENDAR