BEGIN:VCALENDAR
VERSION:2.0
PRODID:gruene-sprockhoevel.de
METHOD:PUBLISH
BEGIN:VTIMEZONE
TZID:Europe/Berlin
X-LIC-LOCATION:Europe/Berlin
BEGIN:DAYLIGHT
TZOFFSETFROM:+0100
TZOFFSETTO:+0200
TZNAME:CEST
DTSTART:19700329T020000
RRULE:FREQ=YEARLY;INTERVAL=1;BYDAY=-1SU;BYMONTH=3
END:DAYLIGHT
BEGIN:STANDARD
TZOFFSETFROM:+0200
TZOFFSETTO:+0100
TZNAME:CET
DTSTART:19701025T030000
RRULE:FREQ=YEARLY;INTERVAL=1;BYDAY=-1SU;BYMONTH=10
END:STANDARD
END:VTIMEZONE
BEGIN:VEVENT
UID:1c87307aca52ef0e9f61c9b460c5d309@gruene-sprockhoevel.de
URL;VALUE=URI:https://gruene-sprockhoevel.de/termine/jahreshauptversammlu
 ng-der-gruenen-ennepe-ruhr/
LOCATION:Haus Ennepetal, Gasstraße 10, Ennepetal
SUMMARY:Jahreshauptversammlung der Grünen Ennepe-Ruhr
DESCRIPTION;ALTREP="data:text/html,%0A%3Cp%3EAn%20diesem%20Abend%20diskut
 ieren%20alle%20Gr%C3%BCnen%20im%20EN-Kreis%20%C3%BCber%20die%20gr%C3%BCne
 %20Politik%20vor%20Ort.%20Schau%20gern%20vorbei%21%3C%2Fp%3E%0A":An diese
 m Abend diskutieren alle Grünen im EN-Kreis über die grüne Politik vor
  Ort. Schau gern vorbei!
CLASS:PUBLIC
DTSTART;TZID=Europe/Berlin:20240301T180000
DTEND;TZID=Europe/Berlin:20240301T200000
DTSTAMP:20260420T053009
END:VEVENT
END:VCALENDAR