BEGIN:VCALENDAR
VERSION:2.0
PRODID:gruene-sprockhoevel.de
METHOD:PUBLISH
BEGIN:VTIMEZONE
TZID:Europe/Berlin
X-LIC-LOCATION:Europe/Berlin
BEGIN:DAYLIGHT
TZOFFSETFROM:+0100
TZOFFSETTO:+0200
TZNAME:CEST
DTSTART:19700329T020000
RRULE:FREQ=YEARLY;INTERVAL=1;BYDAY=-1SU;BYMONTH=3
END:DAYLIGHT
BEGIN:STANDARD
TZOFFSETFROM:+0200
TZOFFSETTO:+0100
TZNAME:CET
DTSTART:19701025T030000
RRULE:FREQ=YEARLY;INTERVAL=1;BYDAY=-1SU;BYMONTH=10
END:STANDARD
END:VTIMEZONE
BEGIN:VEVENT
UID:5be37f4e17737731829e20edc001ae0a@gruene-sprockhoevel.de
URL;VALUE=URI:https://gruene-sprockhoevel.de/termine/kaffetrasse/
LOCATION:entlang der Trasse (Höhe Spielplatz Bredenscheid), Hattingen
SUMMARY:Kaffetrasse
DESCRIPTION;ALTREP="data:text/html,%0A%3Cp%3EWir%20sind%20mit%20dabei%20b
 ei%20der%20Kaffetrasse%21%20Gemeinsam%20mit%20den%20Gr%C3%BCnen%20Hatting
 en%20haben%20wir%20Tische%20gemietet%2C%20kommt%20also%20gerne%20vorbei.%
 3C%2Fp%3E%0A":Wir sind mit dabei bei der Kaffetrasse! Gemeinsam mit den G
 rünen Hattingen haben wir Tische gemietet\, kommt also gerne vorbei.
CLASS:PUBLIC
DTSTART;TZID=Europe/Berlin:20230903T140000
DTEND;TZID=Europe/Berlin:20230903T170000
DTSTAMP:20260419T202702
END:VEVENT
END:VCALENDAR