BEGIN:VCALENDAR
VERSION:2.0
PRODID:gruene-sprockhoevel.de
METHOD:PUBLISH
BEGIN:VTIMEZONE
TZID:Europe/Berlin
X-LIC-LOCATION:Europe/Berlin
BEGIN:DAYLIGHT
TZOFFSETFROM:+0100
TZOFFSETTO:+0200
TZNAME:CEST
DTSTART:19700329T020000
RRULE:FREQ=YEARLY;INTERVAL=1;BYDAY=-1SU;BYMONTH=3
END:DAYLIGHT
BEGIN:STANDARD
TZOFFSETFROM:+0200
TZOFFSETTO:+0100
TZNAME:CET
DTSTART:19701025T030000
RRULE:FREQ=YEARLY;INTERVAL=1;BYDAY=-1SU;BYMONTH=10
END:STANDARD
END:VTIMEZONE
BEGIN:VEVENT
UID:cdeca29c290f4781ccbfe6561b055627@gruene-sprockhoevel.de
URL;VALUE=URI:https://gruene-sprockhoevel.de/termine/klausur-des-ortsverb
 andvorstandes/
LOCATION:Grünen Büro, Am Eicken 10c, Sprockhövel
SUMMARY:Klausur des Ortsverbandvorstandes
DESCRIPTION;ALTREP="data:text/html,%0A%3Cp%3EAn%20diesem%20Samstag%20trif
 ft%20sich%20der%20Ortsverbandvorstand%20in%20der%20Zeit%20von%2010%3A00%2
 0Uhr%20bis%2015%3A00%20Uhr%2C%20um%20%C3%BCber%20die%20bereits%20stattgef
 undenen%20Aktionen%20aus%202024%2C%20sowie%20eine%20vorl%C3%A4ufige%20Jah
 resplanung%20f%C3%BCr%202025%20zu%20sprechen.%20Au%C3%9Ferdem%20wird%20si
 cherlich%20auch%20die%20Kommunalwahl%202025%20ein%20Thema%20sein.%3C%2Fp%
 3E%0A":An diesem Samstag trifft sich der Ortsverbandvorstand in der Zeit 
 von 10:00 Uhr bis 15:00 Uhr\, um über die bereits stattgefundenen Aktion
 en aus 2024\, sowie eine vorläufige Jahresplanung für 2025 zu sprechen.
  Außerdem wird sicherlich auch die Kommunalwahl 2025 ein Thema sein.
CLASS:PUBLIC
DTSTART;TZID=Europe/Berlin:20241019T100000
DTEND;TZID=Europe/Berlin:20241019T150000
DTSTAMP:20260419T202931
END:VEVENT
END:VCALENDAR