BEGIN:VCALENDAR
VERSION:2.0
PRODID:gruene-sprockhoevel.de
METHOD:PUBLISH
BEGIN:VTIMEZONE
TZID:Europe/Berlin
X-LIC-LOCATION:Europe/Berlin
BEGIN:DAYLIGHT
TZOFFSETFROM:+0100
TZOFFSETTO:+0200
TZNAME:CEST
DTSTART:19700329T020000
RRULE:FREQ=YEARLY;INTERVAL=1;BYDAY=-1SU;BYMONTH=3
END:DAYLIGHT
BEGIN:STANDARD
TZOFFSETFROM:+0200
TZOFFSETTO:+0100
TZNAME:CET
DTSTART:19701025T030000
RRULE:FREQ=YEARLY;INTERVAL=1;BYDAY=-1SU;BYMONTH=10
END:STANDARD
END:VTIMEZONE
BEGIN:VEVENT
UID:e70e3601e20351ed4706f423dc5cbbc5@gruene-sprockhoevel.de
URL;VALUE=URI:https://gruene-sprockhoevel.de/termine/kommunalwahl-2025/
LOCATION:
SUMMARY:Kommunalwahl 2025
DESCRIPTION;ALTREP="data:text/html,%0A%3Cp%3EHeute%20findet%20die%20Kommu
 nalwahl%20statt%21%20Es%20werden%20der%20RVR%2C%20%20Landrat%2FLandr%C3%A
 4tin%2C%20Kreistag%2C%20B%C3%BCrgermeister%2Ain%20und%20die%20Vertreter%2
 0f%C3%BCr%20den%20Rat%20der%20Stadt%20Sprockh%C3%B6vel%20gew%C3%A4hlt.%20
 %3C%2Fp%3E%0A":Heute findet die Kommunalwahl statt! Es werden der RVR\,  
 Landrat/Landrätin\, Kreistag\, Bürgermeister*in und die Vertreter für 
 den Rat der Stadt Sprockhövel gewählt.
CLASS:PUBLIC
DTSTART;TZID=Europe/Berlin:20250914
DTEND;TZID=Europe/Berlin:20250915
DTSTAMP:20260419T202839
END:VEVENT
END:VCALENDAR