BEGIN:VCALENDAR
VERSION:2.0
PRODID:gruene-sprockhoevel.de
METHOD:PUBLISH
BEGIN:VTIMEZONE
TZID:Europe/Berlin
X-LIC-LOCATION:Europe/Berlin
BEGIN:DAYLIGHT
TZOFFSETFROM:+0100
TZOFFSETTO:+0200
TZNAME:CEST
DTSTART:19700329T020000
RRULE:FREQ=YEARLY;INTERVAL=1;BYDAY=-1SU;BYMONTH=3
END:DAYLIGHT
BEGIN:STANDARD
TZOFFSETFROM:+0200
TZOFFSETTO:+0100
TZNAME:CET
DTSTART:19701025T030000
RRULE:FREQ=YEARLY;INTERVAL=1;BYDAY=-1SU;BYMONTH=10
END:STANDARD
END:VTIMEZONE
BEGIN:VEVENT
UID:2dbfa9611bf6f3d549d877ca8c6c1335@gruene-sprockhoevel.de
URL;VALUE=URI:https://gruene-sprockhoevel.de/termine/kreismitgliederversa
 mmlung-mit-landesministerin-josefine-paul/
LOCATION:Haus Ennepetal (Sitzungssaal 1), Gasstraße 10, Ennepetal
SUMMARY:Kreismitgliederversammlung mit Landesministerin Josefine Paul
DESCRIPTION;ALTREP="data:text/html,%0A%3Cp%3EEuch%20interessiert%20die%20
 Landespolitik%3F%20Dann%20haben%20wir%20eine%20spannende%20Veranstaltung%
 20f%C3%BCr%20euch%2C%20denn%20die%20%3Cstrong%3EMinisterin%20f%C3%BCr%3C%
 2Fstrong%3E%20%3Cstrong%3EKinder%2C%20Jugend%2C%20Familie%2C%20Gleichstel
 lung%20und%20Integration%3C%2Fstrong%3E%20ist%20als%20Gast%20da%20und%20b
 erichtet%20%C3%BCber%20ihre%20Arbeit.%20Kommt%20also%20gerne%20vorbei%2C%
 20die%20Mitgliederversammlung%20ist%20auch%20f%C3%BCr%20Interessierte%20o
 ffen%21%20%3C%2Fp%3E%0A":Euch interessiert die Landespolitik? Dann haben 
 wir eine spannende Veranstaltung für euch\, denn die Ministerin für Kin
 der\, Jugend\, Familie\, Gleichstellung und Integration ist als Gast da u
 nd berichtet über ihre Arbeit. Kommt also gerne vorbei\, die Mitgliederv
 ersammlung ist auch für Interessierte offen!
CLASS:PUBLIC
DTSTART;TZID=Europe/Berlin:20230831T190000
DTEND;TZID=Europe/Berlin:20230831T210000
DTSTAMP:20260419T203107
END:VEVENT
END:VCALENDAR