BEGIN:VCALENDAR
VERSION:2.0
PRODID:gruene-sprockhoevel.de
METHOD:PUBLISH
BEGIN:VTIMEZONE
TZID:Europe/Berlin
X-LIC-LOCATION:Europe/Berlin
BEGIN:DAYLIGHT
TZOFFSETFROM:+0100
TZOFFSETTO:+0200
TZNAME:CEST
DTSTART:19700329T020000
RRULE:FREQ=YEARLY;INTERVAL=1;BYDAY=-1SU;BYMONTH=3
END:DAYLIGHT
BEGIN:STANDARD
TZOFFSETFROM:+0200
TZOFFSETTO:+0100
TZNAME:CET
DTSTART:19701025T030000
RRULE:FREQ=YEARLY;INTERVAL=1;BYDAY=-1SU;BYMONTH=10
END:STANDARD
END:VTIMEZONE
BEGIN:VEVENT
UID:bd6e59d3f6dd7ab05866803675dca39e@gruene-sprockhoevel.de
URL;VALUE=URI:https://gruene-sprockhoevel.de/termine/mitgliederversammlun
 g/
LOCATION:Grünes Büro, Am Eicken 10c, Sprockhövel
SUMMARY:Mitgliederversammlung
DESCRIPTION;ALTREP="data:text/html,%0A%3Cp%3EHier%20entscheiden%20unsere%
 20Mitglieder%20%C3%BCber%20grundlegende%20Fragen%20der%20gr%C3%BCnen%20Po
 litik%20in%20Sprockh%C3%B6vel.%20Komm%20gerne%20vorbei%21%3C%2Fp%3E%0A":H
 ier entscheiden unsere Mitglieder über grundlegende Fragen der grünen P
 olitik in Sprockhövel. Komm gerne vorbei!
CLASS:PUBLIC
DTSTART;TZID=Europe/Berlin:20240222T190000
DTEND;TZID=Europe/Berlin:20240222T210000
DTSTAMP:20260420T020116
END:VEVENT
END:VCALENDAR