BEGIN:VCALENDAR
VERSION:2.0
PRODID:gruene-sprockhoevel.de
METHOD:PUBLISH
BEGIN:VTIMEZONE
TZID:Europe/Berlin
X-LIC-LOCATION:Europe/Berlin
BEGIN:DAYLIGHT
TZOFFSETFROM:+0100
TZOFFSETTO:+0200
TZNAME:CEST
DTSTART:19700329T020000
RRULE:FREQ=YEARLY;INTERVAL=1;BYDAY=-1SU;BYMONTH=3
END:DAYLIGHT
BEGIN:STANDARD
TZOFFSETFROM:+0200
TZOFFSETTO:+0100
TZNAME:CET
DTSTART:19701025T030000
RRULE:FREQ=YEARLY;INTERVAL=1;BYDAY=-1SU;BYMONTH=10
END:STANDARD
END:VTIMEZONE
BEGIN:VEVENT
UID:9d3d50694c85514b700a2266fa412709@gruene-sprockhoevel.de
URL;VALUE=URI:https://gruene-sprockhoevel.de/termine/onlinekonferenz-moeg
 lichkeiten-der-kommunalen-entschuldung-in-nrw/
LOCATION:
SUMMARY:Onlinekonferenz: Möglichkeiten der kommunalen Entschuldung in NR
 W
DESCRIPTION;ALTREP="data:text/html,%3Cimg%20class%3D%22wp-image-3552%20al
 ignleft%22%20src%3D%22https%3A%2F%2Fgruene-sprockhoevel.de%2Fwp-content%2
 Fuploads%2Fsites%2F30%2F2020%2F07%2FMehrdad_Mostofizadeh_Pressefoto-002-4
 00x300.jpg%22%20alt%3D%22%22%20width%3D%22264%22%20height%3D%22198%22%20%
 2F%3E%3Cimg%20class%3D%22size-medium%20wp-image-3415%20alignleft%22%20src
 %3D%22http%3A%2F%2Fwww.gruene-sprockhoevel.de%2Fwp-content%2Fuploads%2F20
 20%2F06%2FMehrdad_Mostofizadeh_Pressefoto-002-400x300.jpg%22%20alt%3D%22%
 22%20width%3D%22400%22%20height%3D%22300%22%20%2F%3E%0D%0AReferent%3A%20M
 ehrdad%20Mostofizadeh%20%28MdL%29%2C%20kommunalpolitischer%20Sprecher%20d
 er%20Landtagsfaktion%20der%20Gr%C3%BCnen%20NRW%0D%0AMehrdad%20Mostofizade
 h%20%28MdL%29%20ist%20aktuell%20auch%20Kandidat%20zur%20Oberb%C3%BCrgerme
 isterwahl%20in%20der%20Stadt%20Essen%2C%20er%20wird%20das%20Konzept%20%E2
 %80%9ENeustart%E2%80%9C%20und%20die%20m%C3%B6glichen%20Auswirkungen%20f%C
 3%BCr%20die%20Kommunen%20im%20Ennepe-Ruhr-Kreis%20erl%C3%A4utern.%0D%0A%E
 2%80%9ENach%20diesem%20Modell%20zahlt%20das%20Land%20NRW%20kontinuierlich
 %20pro%20Jahr%20in%20einen%20Fonds%20ein.%20Die%20Liquidit%C3%A4tskredite
 %20werden%20dann%20von%20den%20St%C3%A4dten%20in%20einen%20Entschuldungsf
 onds%20eingebracht%20und%20nach%20sp%C3%A4testens%2030%20Jahren%20vollst%
 C3%A4ndig%20getilgt.%C2%A0%20Zins%20und%20Tilgung%20teilen%20sich%20Bund%
 2C%20Land%20und%20betroffene%20Kommunen%20auf.%0D%0A%C3%9Cber%20den%20fol
 genden%20Link%20erreicht%20man%20die%20Veranstaltung%3A%0D%0Ahttps%3A%2F%
 2Fus02web.zoom.us%2Fj%2F84060028670%3Fpwd%3DZ1ptRUlwY2pGMDFPcWpDMFQyZEU4U
 T09%0D%0AMeeting-ID%3A%20840%206002%208670%0D%0APasswort%3A%20530586":Ref
 erent: Mehrdad Mostofizadeh (MdL)\, kommunalpolitischer Sprecher der Land
 tagsfaktion der Grünen NRW\n\nMehrdad Mostofizadeh (MdL) ist aktuell auc
 h Kandidat zur Oberbürgermeisterwahl in der Stadt Essen\, er wird das Ko
 nzept „Neustart“ und die möglichen Auswirkungen für die Kommunen im
  Ennepe-Ruhr-Kreis erläutern.\n\n„Nach diesem Modell zahlt das Land NR
 W kontinuierlich pro Jahr in einen Fonds ein. Die Liquiditätskredite wer
 den dann von den Städten in einen Entschuldungsfonds eingebracht und nac
 h spätestens 30 Jahren vollständig getilgt.  Zins und Tilgung teilen s
 ich Bund\, Land und betroffene Kommunen auf.\n\nÜber den folgenden Link 
 erreicht man die Veranstaltung:\n\nhttps://us02web.zoom.us/j/84060028670?
 pwd=Z1ptRUlwY2pGMDFPcWpDMFQyZEU4UT09\n\nMeeting-ID: 840 6002 8670\n\nPass
 wort: 530586
CLASS:PUBLIC
DTSTART;TZID=Europe/Berlin:20200729T183000
DTEND;TZID=Europe/Berlin:20200729T193000
DTSTAMP:20260419T203045
END:VEVENT
END:VCALENDAR