BEGIN:VCALENDAR
VERSION:2.0
PRODID:gruene-sprockhoevel.de
METHOD:PUBLISH
BEGIN:VTIMEZONE
TZID:Europe/Berlin
X-LIC-LOCATION:Europe/Berlin
BEGIN:DAYLIGHT
TZOFFSETFROM:+0100
TZOFFSETTO:+0200
TZNAME:CEST
DTSTART:19700329T020000
RRULE:FREQ=YEARLY;INTERVAL=1;BYDAY=-1SU;BYMONTH=3
END:DAYLIGHT
BEGIN:STANDARD
TZOFFSETFROM:+0200
TZOFFSETTO:+0100
TZNAME:CET
DTSTART:19701025T030000
RRULE:FREQ=YEARLY;INTERVAL=1;BYDAY=-1SU;BYMONTH=10
END:STANDARD
END:VTIMEZONE
BEGIN:VEVENT
UID:eac99072fbceecc942b3a4749423af83@gruene-sprockhoevel.de
URL;VALUE=URI:https://gruene-sprockhoevel.de/termine/ortsmitgliederversam
 mlung-2020/
LOCATION:Am Eicken 10, Sprockhövel
SUMMARY:Ortsmitgliederversammlung 2020
DESCRIPTION;ALTREP="data:text/html,Ortsmitgliederversammlung%20mit%20Vors
 tandswahlen":Ortsmitgliederversammlung mit Vorstandswahlen
CLASS:PUBLIC
DTSTART;TZID=Europe/Berlin:20200303T200000
DTEND;TZID=Europe/Berlin:20200216T213000
DTSTAMP:20260420T032047
END:VEVENT
END:VCALENDAR