BEGIN:VCALENDAR
VERSION:2.0
PRODID:gruene-sprockhoevel.de
METHOD:PUBLISH
BEGIN:VTIMEZONE
TZID:Europe/Berlin
X-LIC-LOCATION:Europe/Berlin
BEGIN:DAYLIGHT
TZOFFSETFROM:+0100
TZOFFSETTO:+0200
TZNAME:CEST
DTSTART:19700329T020000
RRULE:FREQ=YEARLY;INTERVAL=1;BYDAY=-1SU;BYMONTH=3
END:DAYLIGHT
BEGIN:STANDARD
TZOFFSETFROM:+0200
TZOFFSETTO:+0100
TZNAME:CET
DTSTART:19701025T030000
RRULE:FREQ=YEARLY;INTERVAL=1;BYDAY=-1SU;BYMONTH=10
END:STANDARD
END:VTIMEZONE
BEGIN:VEVENT
UID:80301a1d2b05bb268d13570f0c7b50bd@gruene-sprockhoevel.de
URL;VALUE=URI:https://gruene-sprockhoevel.de/termine/ortsmitgliederversam
 mlung-3/
LOCATION:Grünes Büro, Am Eicken 10c, Sprockhövel
SUMMARY:Ortsmitgliederversammlung
DESCRIPTION;ALTREP="data:text/html,%0A%3Cp%3EHier%20treffen%20sich%20alle
 %20gr%C3%BCnen%20Mitglieder%20von%20Sprockh%C3%B6vel%2C%20um%20%C3%BCber%
 20die%20Zukunft%20der%20gr%C3%BCnen%20Politik%20im%20Dorf%20mitzuentschei
 den.%20Sei%20auch%20Du%20dabei%21%20Du%20musst%20nicht%20Mitglied%20sein%
 2C%20um%20mitreden%20zu%20k%C3%B6nnen.%20Jede%20und%20jeder%20ist%20herzl
 ich%20willkommen.%3C%2Fp%3E%0A":Hier treffen sich alle grünen Mitglieder
  von Sprockhövel\, um über die Zukunft der grünen Politik im Dorf mitz
 uentscheiden. Sei auch Du dabei! Du musst nicht Mitglied sein\, um mitred
 en zu können. Jede und jeder ist herzlich willkommen.
CLASS:PUBLIC
DTSTART;TZID=Europe/Berlin:20231020T193000
DTEND;TZID=Europe/Berlin:20231020T210000
DTSTAMP:20260420T020259
END:VEVENT
END:VCALENDAR