BEGIN:VCALENDAR
VERSION:2.0
PRODID:gruene-sprockhoevel.de
METHOD:PUBLISH
BEGIN:VTIMEZONE
TZID:Europe/Berlin
X-LIC-LOCATION:Europe/Berlin
BEGIN:DAYLIGHT
TZOFFSETFROM:+0100
TZOFFSETTO:+0200
TZNAME:CEST
DTSTART:19700329T020000
RRULE:FREQ=YEARLY;INTERVAL=1;BYDAY=-1SU;BYMONTH=3
END:DAYLIGHT
BEGIN:STANDARD
TZOFFSETFROM:+0200
TZOFFSETTO:+0100
TZNAME:CET
DTSTART:19701025T030000
RRULE:FREQ=YEARLY;INTERVAL=1;BYDAY=-1SU;BYMONTH=10
END:STANDARD
END:VTIMEZONE
BEGIN:VEVENT
UID:67480088fc25b3e63c6bd580532f7dc5@gruene-sprockhoevel.de
URL;VALUE=URI:https://gruene-sprockhoevel.de/termine/ortsmitgliederversam
 mlung-4/
LOCATION:Grünen Büro, Am Eicken 10c, Sprockhövel
SUMMARY:Ortsmitgliederversammlung
DESCRIPTION;ALTREP="data:text/html,%0A%3Cp%3EHeute%2C%20am%2021.11.2024%2
 C%20gibt%20es%20eine%20Mitgliederversammlung%20der%20Gr%C3%BCnen%20Sprock
 h%C3%B6vel.%20Hier%20werden%20die%20neuen%20Sprecher%2Ainnen%20f%C3%BCr%2
 0unseren%20Ortsverband%20gew%C3%A4hlt%20sowie%20die%20aktuelle%20politisc
 he%20Situation%20auf%20Grund%20der%20im%20Februar%20anstehenden%20Bundesw
 ahl%20besprochen.%3C%2Fp%3E%0A%0A%0A%0A%3Cp%3E%3C%2Fp%3E%0A":Heute\, am 2
 1.11.2024\, gibt es eine Mitgliederversammlung der Grünen Sprockhövel. 
 Hier werden die neuen Sprecher*innen für unseren Ortsverband gewählt so
 wie die aktuelle politische Situation auf Grund der im Februar anstehende
 n Bundeswahl besprochen.
CLASS:PUBLIC
DTSTART;TZID=Europe/Berlin:20241121T193000
DTEND;TZID=Europe/Berlin:20241121T220000
DTSTAMP:20260420T032204
END:VEVENT
END:VCALENDAR