BEGIN:VCALENDAR
VERSION:2.0
PRODID:gruene-sprockhoevel.de
METHOD:PUBLISH
BEGIN:VTIMEZONE
TZID:Europe/Berlin
X-LIC-LOCATION:Europe/Berlin
BEGIN:DAYLIGHT
TZOFFSETFROM:+0100
TZOFFSETTO:+0200
TZNAME:CEST
DTSTART:19700329T020000
RRULE:FREQ=YEARLY;INTERVAL=1;BYDAY=-1SU;BYMONTH=3
END:DAYLIGHT
BEGIN:STANDARD
TZOFFSETFROM:+0200
TZOFFSETTO:+0100
TZNAME:CET
DTSTART:19701025T030000
RRULE:FREQ=YEARLY;INTERVAL=1;BYDAY=-1SU;BYMONTH=10
END:STANDARD
END:VTIMEZONE
BEGIN:VEVENT
UID:c1b281b8bb69e519ca160bc1a426573d@gruene-sprockhoevel.de
URL;VALUE=URI:https://gruene-sprockhoevel.de/termine/radtour-mit-buergerm
 eisterkandidatin-sabine-noll/
LOCATION:
SUMMARY:Radtour mit Bürgermeisterkandidatin Sabine Noll
DESCRIPTION;ALTREP="data:text/html,%3Cimg%20class%3D%22size-medium%20wp-i
 mage-4106%20alignleft%22%20src%3D%22https%3A%2F%2Fgruene-sprockhoevel.de%
 2Fwp-content%2Fuploads%2Fsites%2F30%2F2020%2F08%2Fgruene-radtour-sprockho
 evel-mi-400x267.jpg%22%20alt%3D%22%22%20width%3D%22400%22%20height%3D%222
 67%22%20%2F%3E%0D%0A%0D%0ADie%20Gr%C3%BCnen%20laden%20zu%20einer%20Radtou
 r%20mit%20B%C3%BCrgermeisterkandidatin%20Sabine%20Noll%20ein.%0D%0A%0D%0A
 Start%20ist%20am%20Freitag%2C%2021.8.%20um%2016%20Uhr%20am%20Rathaus%20in
 %20Sprockh%C3%B6vel-Ha%C3%9Flinghausen.%20Die%20Strecke%20ist%20ca.%2015%
 20km%20lang%20und%20f%C3%BChrt%20weitgehend%20%C3%BCber%20die%20Gl%C3%BCc
 kauftrasse%20nach%20Niedersprockh%C3%B6vel.%0D%0A%0D%0AUnterwegs%20gibt%2
 0es%20Stopps%20an%20einigen%20Punkten%2C%20wo%20Verbesserungen%20f%C3%BCr
 %20den%20Radverkehr%20dringend%20notwendig%20sind.%0D%0A%0D%0AZum%20Auskl
 ang%20und%20vor%20Antritt%20der%20R%C3%BCckfahrt%20laden%20die%20Gr%C3%BC
 nen%20zur%20Erfrischung%20im%20Caf%C3%A9%20Am%20alten%20Bahnhof%20in%20Ni
 edersprockh%C3%B6vel%20ein.":Die Grünen laden zu einer Radtour mit Bürg
 ermeisterkandidatin Sabine Noll ein.\n\nStart ist am Freitag\, 21.8. um 1
 6 Uhr am Rathaus in Sprockhövel-Haßlinghausen. Die Strecke ist ca. 15 k
 m lang und führt weitgehend über die Glückauftrasse nach Niedersprockh
 övel.\n\nUnterwegs gibt es Stopps an einigen Punkten\, wo Verbesserungen
  für den Radverkehr dringend notwendig sind.\n\nZum Ausklang und vor Ant
 ritt der Rückfahrt laden die Grünen zur Erfrischung im Café Am alten B
 ahnhof in Niedersprockhövel ein.
CLASS:PUBLIC
DTSTART;TZID=Europe/Berlin:20200821T160000
DTEND;TZID=Europe/Berlin:20200821T170000
DTSTAMP:20260419T203045
END:VEVENT
END:VCALENDAR