BEGIN:VCALENDAR
VERSION:2.0
PRODID:gruene-sprockhoevel.de
METHOD:PUBLISH
BEGIN:VTIMEZONE
TZID:Europe/Berlin
X-LIC-LOCATION:Europe/Berlin
BEGIN:DAYLIGHT
TZOFFSETFROM:+0100
TZOFFSETTO:+0200
TZNAME:CEST
DTSTART:19700329T020000
RRULE:FREQ=YEARLY;INTERVAL=1;BYDAY=-1SU;BYMONTH=3
END:DAYLIGHT
BEGIN:STANDARD
TZOFFSETFROM:+0200
TZOFFSETTO:+0100
TZNAME:CET
DTSTART:19701025T030000
RRULE:FREQ=YEARLY;INTERVAL=1;BYDAY=-1SU;BYMONTH=10
END:STANDARD
END:VTIMEZONE
BEGIN:VEVENT
UID:33fc3d12cccdba642d2f565c6d0f5611@gruene-sprockhoevel.de
URL;VALUE=URI:https://gruene-sprockhoevel.de/termine/sitzung-des-ausschus
 ses-fuer-anregungen-und-beschwerden-2/
LOCATION:Rathaus - Sitzungssaal, Rathausplatz 4, 45549 Sprockhövel
SUMMARY:Sitzung des Ausschusses für Anregungen und Beschwerden
DESCRIPTION;ALTREP="data:text/html,%0A%3Cp%3EAlle%20Informationen%20zu%20
 der%20Sitzung%20finden%20sich%20hier%3A%20%3Ca%20href%3D%22https%3A%2F%2F
 sprockhoevel.ratsinfomanagement.net%2Ftops%2F%3F__%3DUGhVM0hpd2NXNFdFcExj
 ZZBLFxhAdq_pfYGzEZQ3P4E%22%3ESitzungstermin%20-%202024%20-%20Ausschuss%20
 f%C3%BCr%20Anregungen%20und%20Beschwerden%2C%207.%20Sitzung%20%7C%20Stadt
 %20Sprockh%C3%B6vel%20%7C%20Ratsinformationssystem%20%28ratsinfomanagemen
 t.net%29%3C%2Fa%3E%3C%2Fp%3E%0A%0A%0A%0A%3Cp%3E%3Cbr%3E%3C%2Fp%3E%0A":All
 e Informationen zu der Sitzung finden sich hier: Sitzungstermin - 2024 - 
 Ausschuss für Anregungen und Beschwerden\, 7. Sitzung | Stadt Sprockhöv
 el | Ratsinformationssystem (ratsinfomanagement.net)
CLASS:PUBLIC
DTSTART;TZID=Europe/Berlin:20240828T173000
DTEND;TZID=Europe/Berlin:20240828T193000
DTSTAMP:20260420T093319
END:VEVENT
END:VCALENDAR