BEGIN:VCALENDAR
VERSION:2.0
PRODID:gruene-sprockhoevel.de
METHOD:PUBLISH
BEGIN:VTIMEZONE
TZID:Europe/Berlin
X-LIC-LOCATION:Europe/Berlin
BEGIN:DAYLIGHT
TZOFFSETFROM:+0100
TZOFFSETTO:+0200
TZNAME:CEST
DTSTART:19700329T020000
RRULE:FREQ=YEARLY;INTERVAL=1;BYDAY=-1SU;BYMONTH=3
END:DAYLIGHT
BEGIN:STANDARD
TZOFFSETFROM:+0200
TZOFFSETTO:+0100
TZNAME:CET
DTSTART:19701025T030000
RRULE:FREQ=YEARLY;INTERVAL=1;BYDAY=-1SU;BYMONTH=10
END:STANDARD
END:VTIMEZONE
BEGIN:VEVENT
UID:c4361658486650fe5bb4f24f9040819b@gruene-sprockhoevel.de
URL;VALUE=URI:https://gruene-sprockhoevel.de/termine/sitzung-des-ausschus
 ses-fuer-jugendhilfe-und-schule/
LOCATION:Sitzungssaal Rathaus, Rathausplatz 4, Sprockhövel
SUMMARY:Sitzung des Ausschusses für Jugendhilfe und Schule
DESCRIPTION;ALTREP="data:text/html,%0A%3Cp%3EAlle%20Details%20zu%20der%20
 Sitzung%20finden%20sich%20unter%20folgendem%20Link%3A%20https%3A%2F%2Fspr
 ockhoevel.more-rubin1.de%2Fmeeting.php%3Fid%3D2023-JHA-78%3C%2Fp%3E%0A":A
 lle Details zu der Sitzung finden sich unter folgendem Link: https://spro
 ckhoevel.more-rubin1.de/meeting.php?id=2023-JHA-78
CLASS:PUBLIC
DTSTART;TZID=Europe/Berlin:20230510T173000
DTEND;TZID=Europe/Berlin:20230510T190000
DTSTAMP:20260419T203028
END:VEVENT
END:VCALENDAR