BEGIN:VCALENDAR
VERSION:2.0
PRODID:gruene-sprockhoevel.de
METHOD:PUBLISH
BEGIN:VTIMEZONE
TZID:Europe/Berlin
X-LIC-LOCATION:Europe/Berlin
BEGIN:DAYLIGHT
TZOFFSETFROM:+0100
TZOFFSETTO:+0200
TZNAME:CEST
DTSTART:19700329T020000
RRULE:FREQ=YEARLY;INTERVAL=1;BYDAY=-1SU;BYMONTH=3
END:DAYLIGHT
BEGIN:STANDARD
TZOFFSETFROM:+0200
TZOFFSETTO:+0100
TZNAME:CET
DTSTART:19701025T030000
RRULE:FREQ=YEARLY;INTERVAL=1;BYDAY=-1SU;BYMONTH=10
END:STANDARD
END:VTIMEZONE
BEGIN:VEVENT
UID:36c22c43bba312c4e62a73ae79babfe3@gruene-sprockhoevel.de
URL;VALUE=URI:https://gruene-sprockhoevel.de/termine/sitzung-des-ausschus
 ses-fuer-jugendhilfe-und-schule-2/
LOCATION:Sitzungssaal Rathaus, Rathausplatz 4, Sprockhövel
SUMMARY:Sitzung des Ausschusses für Jugendhilfe und Schule
DESCRIPTION;ALTREP="data:text/html,%0A%3Cp%3EHier%20wird%20%C3%BCber%20di
 e%20schulpolitischen%20sowie%20jugendpolitischen%20Themen%20gesprochen.%2
 0Alle%20Infos%20zu%20der%20Sitzung%20finden%20sich%20hier%3A%20https%3A%2
 F%2Fsprockhoevel.ratsinfomanagement.net%2Ftops%2F%3F__%3DUGhVM0hpd2NXNFdF
 cExjZWfXAU6CRyJQIZ-lJUZJJTc%3C%2Fp%3E%0A%0A%0A%0A%3Cp%3E%3C%2Fp%3E%0A":Hi
 er wird über die schulpolitischen sowie jugendpolitischen Themen gesproc
 hen. Alle Infos zu der Sitzung finden sich hier: https://sprockhoevel.rat
 sinfomanagement.net/tops/?__=UGhVM0hpd2NXNFdFcExjZWfXAU6CRyJQIZ-lJUZJJTc
CLASS:PUBLIC
DTSTART;TZID=Europe/Berlin:20230823T173000
DTEND;TZID=Europe/Berlin:20230823T190000
DTSTAMP:20260420T020346
END:VEVENT
END:VCALENDAR