BEGIN:VCALENDAR
VERSION:2.0
PRODID:gruene-sprockhoevel.de
METHOD:PUBLISH
BEGIN:VTIMEZONE
TZID:Europe/Berlin
X-LIC-LOCATION:Europe/Berlin
BEGIN:DAYLIGHT
TZOFFSETFROM:+0100
TZOFFSETTO:+0200
TZNAME:CEST
DTSTART:19700329T020000
RRULE:FREQ=YEARLY;INTERVAL=1;BYDAY=-1SU;BYMONTH=3
END:DAYLIGHT
BEGIN:STANDARD
TZOFFSETFROM:+0200
TZOFFSETTO:+0100
TZNAME:CET
DTSTART:19701025T030000
RRULE:FREQ=YEARLY;INTERVAL=1;BYDAY=-1SU;BYMONTH=10
END:STANDARD
END:VTIMEZONE
BEGIN:VEVENT
UID:3f92d61825fb099b8f80f7a3a893b066@gruene-sprockhoevel.de
URL;VALUE=URI:https://gruene-sprockhoevel.de/termine/sitzung-des-ausschus
 ses-fuer-stadtentwicklung-und-denkmalschutz-2/
LOCATION:Sitzungssaal Rathaus, Rathausplatz 4, Sprockhövel
SUMMARY:Sitzung des Ausschusses für Stadtentwicklung und Denkmalschutz
DESCRIPTION;ALTREP="data:text/html,%0A%3Cp%3EAlle%20Infos%20zu%20diesem%2
 0Ausschuss%20finden%20sich%20hier%3A%20https%3A%2F%2Fsprockhoevel.more-ru
 bin1.de%2Fmeeting.php%3Fid%3D2023-A_St_D-13%3C%2Fp%3E%0A":Alle Infos zu d
 iesem Ausschuss finden sich hier: https://sprockhoevel.more-rubin1.de/mee
 ting.php?id=2023-A_St_D-13
CLASS:PUBLIC
DTSTART;TZID=Europe/Berlin:20230511T173000
DTEND;TZID=Europe/Berlin:20230511T190000
DTSTAMP:20260419T203046
END:VEVENT
END:VCALENDAR