BEGIN:VCALENDAR
VERSION:2.0
PRODID:gruene-sprockhoevel.de
METHOD:PUBLISH
BEGIN:VTIMEZONE
TZID:Europe/Berlin
X-LIC-LOCATION:Europe/Berlin
BEGIN:DAYLIGHT
TZOFFSETFROM:+0100
TZOFFSETTO:+0200
TZNAME:CEST
DTSTART:19700329T020000
RRULE:FREQ=YEARLY;INTERVAL=1;BYDAY=-1SU;BYMONTH=3
END:DAYLIGHT
BEGIN:STANDARD
TZOFFSETFROM:+0200
TZOFFSETTO:+0100
TZNAME:CET
DTSTART:19701025T030000
RRULE:FREQ=YEARLY;INTERVAL=1;BYDAY=-1SU;BYMONTH=10
END:STANDARD
END:VTIMEZONE
BEGIN:VEVENT
UID:6799f075754ef797e4bc9191c0e0e5d2@gruene-sprockhoevel.de
URL;VALUE=URI:https://gruene-sprockhoevel.de/termine/sitzung-des-ausschus
 ses-fuer-stadtentwicklung-und-denkmalschutz-3/
LOCATION:Rathaus Sitzungssaal, Rathausplatz 4, Sprockhövel
SUMMARY:Sitzung des Ausschusses für Stadtentwicklung und Denkmalschutz
DESCRIPTION;ALTREP="data:text/html,%0A%3Cp%3EAlle%20Infos%20zu%20der%20Si
 tzung%20finden%20sich%20hier%2C%20die%20Tagesordnung%20wird%20zwei%20Woch
 en%20im%20Voraus%20hochgeladen%3A%20https%3A%2F%2Fsprockhoevel.ratsinfoma
 nagement.net%2Ftops%2F%3F__%3DUGhVM0hpd2NXNFdFcExjZYqSNjxaVfFkNQtU3-i0s_M
 %3C%2Fp%3E%0A":Alle Infos zu der Sitzung finden sich hier\, die Tagesordn
 ung wird zwei Wochen im Voraus hochgeladen: https://sprockhoevel.ratsinfo
 management.net/tops/?__=UGhVM0hpd2NXNFdFcExjZYqSNjxaVfFkNQtU3-i0s_M
CLASS:PUBLIC
DTSTART;TZID=Europe/Berlin:20230904T173000
DTEND;TZID=Europe/Berlin:20230904T190000
DTSTAMP:20260420T053009
END:VEVENT
END:VCALENDAR