BEGIN:VCALENDAR
VERSION:2.0
PRODID:gruene-sprockhoevel.de
METHOD:PUBLISH
BEGIN:VTIMEZONE
TZID:Europe/Berlin
X-LIC-LOCATION:Europe/Berlin
BEGIN:DAYLIGHT
TZOFFSETFROM:+0100
TZOFFSETTO:+0200
TZNAME:CEST
DTSTART:19700329T020000
RRULE:FREQ=YEARLY;INTERVAL=1;BYDAY=-1SU;BYMONTH=3
END:DAYLIGHT
BEGIN:STANDARD
TZOFFSETFROM:+0200
TZOFFSETTO:+0100
TZNAME:CET
DTSTART:19701025T030000
RRULE:FREQ=YEARLY;INTERVAL=1;BYDAY=-1SU;BYMONTH=10
END:STANDARD
END:VTIMEZONE
BEGIN:VEVENT
UID:b30aedcea76486142934b5a7aa894ce9@gruene-sprockhoevel.de
URL;VALUE=URI:https://gruene-sprockhoevel.de/termine/sitzung-des-ausschus
 ses-fuer-stadtentwicklung-und-denkmalschutz-4/
LOCATION:Gemeinschaftsgrundschule Börgersbruch Forum, Dresdener Str. 43,
  45549 Sprockövel
SUMMARY:Sitzung des Ausschusses für Stadtentwicklung und Denkmalschutz
DESCRIPTION;ALTREP="data:text/html,%0A%3Cp%3ESondersitzung%20-%3C%2Fp%3E%
 0A%0A%0A%0A%3Cp%3EAlle%20Infos%20zu%20der%20Sitzung%20finden%20sich%20hie
 r%3C%2Fp%3E%0A%0A%0A%0A%3Cp%3E%3Ca%20href%3D%22https%3A%2F%2Fsprockhoevel
 .ratsinfomanagement.net%2Ftops%2F%3F__%3DUGhVM0hpd2NXNFdFcExjZbi0x2jgiatL
 sGt4IsaPVAM%22%3Ehttps%3A%2F%2Fsprockhoevel.ratsinfomanagement.net%2Ftops
 %2F%3F__%3DUGhVM0hpd2NXNFdFcExjZbi0x2jgiatLsGt4IsaPVAM%3C%2Fa%3E%3C%2Fp%3
 E%0A":Sondersitzung -\n\nAlle Infos zu der Sitzung finden sich hier\n\nht
 tps://sprockhoevel.ratsinfomanagement.net/tops/?__=UGhVM0hpd2NXNFdFcExjZb
 i0x2jgiatLsGt4IsaPVAM
CLASS:PUBLIC
DTSTART;TZID=Europe/Berlin:20230925T173000
DTEND;TZID=Europe/Berlin:20230925T193000
DTSTAMP:20260420T053056
END:VEVENT
END:VCALENDAR