BEGIN:VCALENDAR
VERSION:2.0
PRODID:gruene-sprockhoevel.de
METHOD:PUBLISH
BEGIN:VTIMEZONE
TZID:Europe/Berlin
X-LIC-LOCATION:Europe/Berlin
BEGIN:DAYLIGHT
TZOFFSETFROM:+0100
TZOFFSETTO:+0200
TZNAME:CEST
DTSTART:19700329T020000
RRULE:FREQ=YEARLY;INTERVAL=1;BYDAY=-1SU;BYMONTH=3
END:DAYLIGHT
BEGIN:STANDARD
TZOFFSETFROM:+0200
TZOFFSETTO:+0100
TZNAME:CET
DTSTART:19701025T030000
RRULE:FREQ=YEARLY;INTERVAL=1;BYDAY=-1SU;BYMONTH=10
END:STANDARD
END:VTIMEZONE
BEGIN:VEVENT
UID:21ef4deeb3fce16b76971cdd88f162e7@gruene-sprockhoevel.de
URL;VALUE=URI:https://gruene-sprockhoevel.de/termine/sitzung-des-behinder
 tenbeirates/
LOCATION:Sitzungssaal Rathaus, Rathausplatz 4, Sprockhövel
SUMMARY:Sitzung des Behindertenbeirates
DESCRIPTION;ALTREP="data:text/html,%0A%3Cp%3EAlle%20Infos%20zu%20der%20Si
 tzung%20finden%20sich%20hier%3A%20%3Ca%20href%3D%22https%3A%2F%2Fsprockho
 evel.more-rubin1.de%2Fmeeting.php%3Fid%3D2023-BehBeir-39%22%3Ehttps%3A%2F
 %2Fsprockhoevel.more-rubin1.de%2Fmeeting.php%3Fid%3D2023-BehBeir-39%3C%2F
 a%3E%3C%2Fp%3E%0A":Alle Infos zu der Sitzung finden sich hier: https://sp
 rockhoevel.more-rubin1.de/meeting.php?id=2023-BehBeir-39
CLASS:PUBLIC
DTSTART;TZID=Europe/Berlin:20230323T173000
DTEND;TZID=Europe/Berlin:20230323T190000
DTSTAMP:20260419T202839
END:VEVENT
END:VCALENDAR