BEGIN:VCALENDAR
VERSION:2.0
PRODID:gruene-sprockhoevel.de
METHOD:PUBLISH
BEGIN:VTIMEZONE
TZID:Europe/Berlin
X-LIC-LOCATION:Europe/Berlin
BEGIN:DAYLIGHT
TZOFFSETFROM:+0100
TZOFFSETTO:+0200
TZNAME:CEST
DTSTART:19700329T020000
RRULE:FREQ=YEARLY;INTERVAL=1;BYDAY=-1SU;BYMONTH=3
END:DAYLIGHT
BEGIN:STANDARD
TZOFFSETFROM:+0200
TZOFFSETTO:+0100
TZNAME:CET
DTSTART:19701025T030000
RRULE:FREQ=YEARLY;INTERVAL=1;BYDAY=-1SU;BYMONTH=10
END:STANDARD
END:VTIMEZONE
BEGIN:VEVENT
UID:59e1c339e48015b231c9ad3d77b36b4c@gruene-sprockhoevel.de
URL;VALUE=URI:https://gruene-sprockhoevel.de/termine/sitzung-des-betriebs
 ausschusses/
LOCATION:Sitzungssaal Rathaus, Rathausplatz 4, Sprockhövel
SUMMARY:Sitzung des Betriebsausschusses
DESCRIPTION;ALTREP="data:text/html,%0A%3Cp%3EDer%20Link%20zu%20der%20Tage
 sordnung%20findet%20sich%20hier%3A%20https%3A%2F%2Fsprockhoevel.more-rubi
 n1.de%2Fmeeting.php%3Fid%3D2023-Werk-97%3C%2Fp%3E%0A":Der Link zu der Tag
 esordnung findet sich hier: https://sprockhoevel.more-rubin1.de/meeting.p
 hp?id=2023-Werk-97
CLASS:PUBLIC
DTSTART;TZID=Europe/Berlin:20230522T173000
DTEND;TZID=Europe/Berlin:20230522T190000
DTSTAMP:20260420T020336
END:VEVENT
END:VCALENDAR