BEGIN:VCALENDAR
VERSION:2.0
PRODID:gruene-sprockhoevel.de
METHOD:PUBLISH
BEGIN:VTIMEZONE
TZID:Europe/Berlin
X-LIC-LOCATION:Europe/Berlin
BEGIN:DAYLIGHT
TZOFFSETFROM:+0100
TZOFFSETTO:+0200
TZNAME:CEST
DTSTART:19700329T020000
RRULE:FREQ=YEARLY;INTERVAL=1;BYDAY=-1SU;BYMONTH=3
END:DAYLIGHT
BEGIN:STANDARD
TZOFFSETFROM:+0200
TZOFFSETTO:+0100
TZNAME:CET
DTSTART:19701025T030000
RRULE:FREQ=YEARLY;INTERVAL=1;BYDAY=-1SU;BYMONTH=10
END:STANDARD
END:VTIMEZONE
BEGIN:VEVENT
UID:7bd878b9f7a128630193fa1affd1add2@gruene-sprockhoevel.de
URL;VALUE=URI:https://gruene-sprockhoevel.de/termine/sitzung-des-betriebs
 ausschusses-2/
LOCATION:Rathaus-Sitzungssaal, Rathausplatz 4, Sprockhövel
SUMMARY:Sitzung des Betriebsausschusses
DESCRIPTION;ALTREP="data:text/html,%0A%3Cp%3EAlles%20%C3%BCber%20die%20Si
 tzung%20des%20BAs%20findet%20man%20hier%20ausf%C3%BChrlicher%3A%20https%3
 A%2F%2Fsprockhoevel.ratsinfomanagement.net%2Ftops%2F%3F__%3DUGhVM0hpd2NXN
 FdFcExjZVbbGwtqCl6j5sah7HmIqr4%3C%2Fp%3E%0A":Alles über die Sitzung des 
 BAs findet man hier ausführlicher: https://sprockhoevel.ratsinfomanageme
 nt.net/tops/?__=UGhVM0hpd2NXNFdFcExjZVbbGwtqCl6j5sah7HmIqr4
CLASS:PUBLIC
DTSTART;TZID=Europe/Berlin:20230911T173000
DTEND;TZID=Europe/Berlin:20230911T190000
DTSTAMP:20260419T202931
END:VEVENT
END:VCALENDAR