BEGIN:VCALENDAR
VERSION:2.0
PRODID:gruene-sprockhoevel.de
METHOD:PUBLISH
BEGIN:VTIMEZONE
TZID:Europe/Berlin
X-LIC-LOCATION:Europe/Berlin
BEGIN:DAYLIGHT
TZOFFSETFROM:+0100
TZOFFSETTO:+0200
TZNAME:CEST
DTSTART:19700329T020000
RRULE:FREQ=YEARLY;INTERVAL=1;BYDAY=-1SU;BYMONTH=3
END:DAYLIGHT
BEGIN:STANDARD
TZOFFSETFROM:+0200
TZOFFSETTO:+0100
TZNAME:CET
DTSTART:19701025T030000
RRULE:FREQ=YEARLY;INTERVAL=1;BYDAY=-1SU;BYMONTH=10
END:STANDARD
END:VTIMEZONE
BEGIN:VEVENT
UID:b5d1c20e888cc65926687aa09732c0be@gruene-sprockhoevel.de
URL;VALUE=URI:https://gruene-sprockhoevel.de/termine/sitzung-des-betriebs
 ausschusses-3/
LOCATION:Rathaus - Sitzungssaal, Rathausplatz 4, 45549 Sprockhövel
SUMMARY:Sitzung des Betriebsausschusses
DESCRIPTION;ALTREP="data:text/html,%0A%3Cp%3EAlle%20Informationen%20zur%2
 0Sitzung%20finden%20sich%20hier%2C%20Tagesordnung%20wird%2014%20Tage%20vo
 rher%20bekannt%20gegeben%3C%2Fp%3E%0A%0A%0A%0A%3Cp%3E%3Ca%20href%3D%22htt
 ps%3A%2F%2Fsprockhoevel.ratsinfomanagement.net%2Ftops%2F%3F__%3DUGhVM0hpd
 2NXNFdFcExjZW_NI12hPjnT6pAws6gdpCs%22%3Ehttps%3A%2F%2Fsprockhoevel.ratsin
 fomanagement.net%2Ftops%2F%3F__%3DUGhVM0hpd2NXNFdFcExjZW_NI12hPjnT6pAws6g
 dpCs%3C%2Fa%3E%3C%2Fp%3E%0A":Alle Informationen zur Sitzung finden sich h
 ier\, Tagesordnung wird 14 Tage vorher bekannt gegeben\n\nhttps://sprockh
 oevel.ratsinfomanagement.net/tops/?__=UGhVM0hpd2NXNFdFcExjZW_NI12hPjnT6pA
 ws6gdpCs
CLASS:PUBLIC
DTSTART;TZID=Europe/Berlin:20231120T173000
DTEND;TZID=Europe/Berlin:20231120T193000
DTSTAMP:20260419T203008
END:VEVENT
END:VCALENDAR