BEGIN:VCALENDAR
VERSION:2.0
PRODID:gruene-sprockhoevel.de
METHOD:PUBLISH
BEGIN:VTIMEZONE
TZID:Europe/Berlin
X-LIC-LOCATION:Europe/Berlin
BEGIN:DAYLIGHT
TZOFFSETFROM:+0100
TZOFFSETTO:+0200
TZNAME:CEST
DTSTART:19700329T020000
RRULE:FREQ=YEARLY;INTERVAL=1;BYDAY=-1SU;BYMONTH=3
END:DAYLIGHT
BEGIN:STANDARD
TZOFFSETFROM:+0200
TZOFFSETTO:+0100
TZNAME:CET
DTSTART:19701025T030000
RRULE:FREQ=YEARLY;INTERVAL=1;BYDAY=-1SU;BYMONTH=10
END:STANDARD
END:VTIMEZONE
BEGIN:VEVENT
UID:a95d85048296cfb00bba62162230320f@gruene-sprockhoevel.de
URL;VALUE=URI:https://gruene-sprockhoevel.de/termine/sitzung-des-haupt-un
 d-finanzausschusses/
LOCATION:Sitzungsaal Rathaus, Rathausplatz 4, Sprockhövel
SUMMARY:Sitzung des Haupt- und Finanzausschusses
DESCRIPTION;ALTREP="data:text/html,%0A%3Cp%3EWas%20in%20diesem%20wichtige
 n%20Ausschuss%20passiert%2C%20kann%20man%20hier%20lesen%3A%20https%3A%2F%
 2Fsprockhoevel.more-rubin1.de%2Fmeeting.php%3Fid%3D2023-HuF-118%3C%2Fp%3E
 %0A":Was in diesem wichtigen Ausschuss passiert\, kann man hier lesen: ht
 tps://sprockhoevel.more-rubin1.de/meeting.php?id=2023-HuF-118
CLASS:PUBLIC
DTSTART;TZID=Europe/Berlin:20230515T173000
DTEND;TZID=Europe/Berlin:20230515T190000
DTSTAMP:20260420T032222
END:VEVENT
END:VCALENDAR