BEGIN:VCALENDAR
VERSION:2.0
PRODID:gruene-sprockhoevel.de
METHOD:PUBLISH
BEGIN:VTIMEZONE
TZID:Europe/Berlin
X-LIC-LOCATION:Europe/Berlin
BEGIN:DAYLIGHT
TZOFFSETFROM:+0100
TZOFFSETTO:+0200
TZNAME:CEST
DTSTART:19700329T020000
RRULE:FREQ=YEARLY;INTERVAL=1;BYDAY=-1SU;BYMONTH=3
END:DAYLIGHT
BEGIN:STANDARD
TZOFFSETFROM:+0200
TZOFFSETTO:+0100
TZNAME:CET
DTSTART:19701025T030000
RRULE:FREQ=YEARLY;INTERVAL=1;BYDAY=-1SU;BYMONTH=10
END:STANDARD
END:VTIMEZONE
BEGIN:VEVENT
UID:9e2e27965cd4dfda71a598e3613cc29e@gruene-sprockhoevel.de
URL;VALUE=URI:https://gruene-sprockhoevel.de/termine/sitzung-des-haupt-un
 d-finanzausschusses-2/
LOCATION:Rathaus Sitzungssaal, Rathausplatz 4, Sprockhövel
SUMMARY:Sitzung des Haupt- und Finanzausschusses
DESCRIPTION;ALTREP="data:text/html,%0A%3Cp%3EAlle%20Infos%20dazu%20finden
 %20sich%20hier%3A%20https%3A%2F%2Fsprockhoevel.ratsinfomanagement.net%2Ft
 ops%2F%3F__%3DUGhVM0hpd2NXNFdFcExjZUXwSFgeu2tJG-KTord0Lec%3C%2Fp%3E%0A":A
 lle Infos dazu finden sich hier: https://sprockhoevel.ratsinfomanagement.
 net/tops/?__=UGhVM0hpd2NXNFdFcExjZUXwSFgeu2tJG-KTord0Lec
CLASS:PUBLIC
DTSTART;TZID=Europe/Berlin:20230907T173000
DTEND;TZID=Europe/Berlin:20230907T190000
DTSTAMP:20260420T032243
END:VEVENT
END:VCALENDAR