BEGIN:VCALENDAR
VERSION:2.0
PRODID:gruene-sprockhoevel.de
METHOD:PUBLISH
BEGIN:VTIMEZONE
TZID:Europe/Berlin
X-LIC-LOCATION:Europe/Berlin
BEGIN:DAYLIGHT
TZOFFSETFROM:+0100
TZOFFSETTO:+0200
TZNAME:CEST
DTSTART:19700329T020000
RRULE:FREQ=YEARLY;INTERVAL=1;BYDAY=-1SU;BYMONTH=3
END:DAYLIGHT
BEGIN:STANDARD
TZOFFSETFROM:+0200
TZOFFSETTO:+0100
TZNAME:CET
DTSTART:19701025T030000
RRULE:FREQ=YEARLY;INTERVAL=1;BYDAY=-1SU;BYMONTH=10
END:STANDARD
END:VTIMEZONE
BEGIN:VEVENT
UID:abfa9d16ff68feb1f97cfcde6e7bdaea@gruene-sprockhoevel.de
URL;VALUE=URI:https://gruene-sprockhoevel.de/termine/sitzung-des-haupt-un
 d-finanzausschusses-3/
LOCATION:Rathaus - Sitzungssaal, Rathausplatz 4, 45549 Sprockhövel
SUMMARY:Sitzung des Haupt- und Finanzausschusses
DESCRIPTION;ALTREP="data:text/html,%0A%3Cp%3EAlle%20Informationen%20zu%20
 der%20Sitzung%20finden%20sich%20hier%2C%20Tagesordnung%20wird%2014%20Tage
 %20vorher%20bekannt%20gegeben%3Cbr%3E%3Ca%20href%3D%22https%3A%2F%2Fsproc
 khoevel.ratsinfomanagement.net%2Ftops%2F%3F__%3DUGhVM0hpd2NXNFdFcExjZUAaM
 04UUjoEYhRzUtE0KQ4%22%3Ehttps%3A%2F%2Fsprockhoevel.ratsinfomanagement.net
 %2Ftops%2F%3F__%3DUGhVM0hpd2NXNFdFcExjZUAaM04UUjoEYhRzUtE0KQ4%3C%2Fa%3E%3
 C%2Fp%3E%0A":Alle Informationen zu der Sitzung finden sich hier\, Tagesor
 dnung wird 14 Tage vorher bekannt gegebenhttps://sprockhoevel.ratsinfoman
 agement.net/tops/?__=UGhVM0hpd2NXNFdFcExjZUAaM04UUjoEYhRzUtE0KQ4
CLASS:PUBLIC
DTSTART;TZID=Europe/Berlin:20231109T173000
DTEND;TZID=Europe/Berlin:20231109T193000
DTSTAMP:20260419T203007
END:VEVENT
END:VCALENDAR